BEGIN:VCALENDAR
VERSION:2.0
PRODID:-//ChamberMaster//Event Calendar 2.0//EN
METHOD:PUBLISH
X-PUBLISHED-TTL:P3D
REFRESH-INTERVAL:P3D
CALSCALE:GREGORIAN
BEGIN:VEVENT
DTSTART:20210407T210000Z
DTEND:20210407T220000Z
X-MICROSOFT-CDO-ALLDAYEVENT:FALSE
SUMMARY:Ribbon Cutting for 30A Starbucks
DESCRIPTION:Join us for an open house and ribbon cutting ceremony for 30A Starbucks!\n\n\n\nThe ribbon cutting ceremony will commence at 4:30 p.m. and everyone will receive a complimentary drink of their choice! We can't wait to see you there.
X-ALT-DESC;FMTTYPE=text/html:<span style="font-size:14px\;"><span style="font-family:arial\;">Join us for an open house and ribbon cutting ceremony for 30A Starbucks!<br />\n<br />\nThe ribbon cutting ceremony will commence at 4:30 p.m. and everyone will receive a complimentary drink of their choice! We can&#39\;t wait to see you there.</span></span>
LOCATION:Seacrest Village 10343 East County Highway 30A
UID:e.885.29426
SEQUENCE:3
DTSTAMP:20260422T124742Z
URL:https://business.waltonareachamber.com/events/details/ribbon-cutting-for-30a-starbucks-29426
END:VEVENT

END:VCALENDAR
