BEGIN:VCALENDAR
VERSION:2.0
PRODID:-//ChamberMaster//Event Calendar 2.0//EN
METHOD:PUBLISH
X-PUBLISHED-TTL:P3D
REFRESH-INTERVAL:P3D
CALSCALE:GREGORIAN
BEGIN:VEVENT
DTSTART:20210416T210000Z
DTEND:20210417T000000Z
X-MICROSOFT-CDO-ALLDAYEVENT:FALSE
SUMMARY:Ribbon Cutting for BECASA
DESCRIPTION:Join us for the grand opening of BECASA at 30Avenue!\n\nThe ribbon cutting will commence at 4:00 p.m.
X-ALT-DESC;FMTTYPE=text/html:<span style="font-size:14px\;"><span style="font-family:arial\;">Join us for the grand opening of BECASA at 30Avenue!<br />\nThe ribbon cutting will commence at 4:00 p.m.</span></span>
LOCATION:30Avenue 12805 U.S. Hwy 98 East Ste I 101 Inlet Beach FL 32461
UID:e.885.29423
SEQUENCE:3
DTSTAMP:20260422T124706Z
URL:https://business.waltonareachamber.com/events/details/ribbon-cutting-for-becasa-29423
END:VEVENT

END:VCALENDAR
