BEGIN:VCALENDAR
VERSION:2.0
PRODID:-//ChamberMaster//Event Calendar 2.0//EN
METHOD:PUBLISH
X-PUBLISHED-TTL:P3D
REFRESH-INTERVAL:P3D
CALSCALE:GREGORIAN
BEGIN:VEVENT
DTSTART:20210608T150000Z
DTEND:20210608T160000Z
X-MICROSOFT-CDO-ALLDAYEVENT:FALSE
SUMMARY:Ribbon Cutting for Centennial Bank
DESCRIPTION:Join us for a ribbon cutting ceremony for the new Centennial Bank in Santa Rosa Beach!\n\n\n\nThe ribbon will be cut at 10:15 a.m.
X-ALT-DESC;FMTTYPE=text/html:<span style="font-size:14px\;"><span style="font-family:arial\;">Join us for a ribbon cutting ceremony for the new Centennial Bank in Santa Rosa Beach!<br />\n<br />\nThe ribbon will be cut at 10:15 a.m.</span></span>
LOCATION:321 S Co Hwy 393\, Santa Rosa Beach\, FL 32459
UID:e.885.31908
SEQUENCE:3
DTSTAMP:20260422T200306Z
URL:https://business.waltonareachamber.com/events/details/ribbon-cutting-for-centennial-bank-31908
END:VEVENT

END:VCALENDAR
