BEGIN:VCALENDAR
VERSION:2.0
PRODID:-//ChamberMaster//Event Calendar 2.0//EN
METHOD:PUBLISH
X-PUBLISHED-TTL:P3D
REFRESH-INTERVAL:P3D
CALSCALE:GREGORIAN
BEGIN:VEVENT
DTSTART:20210301T220000Z
DTEND:20210301T233000Z
X-MICROSOFT-CDO-ALLDAYEVENT:FALSE
SUMMARY:Ribbon Cutting for Emerald Coast Art
DESCRIPTION:Join us for a ribbon cutting ceremony for Emerald Coast Art! The ribbon cutting ceremony will commence at 4:00 p.m. We can't wait to see you there!
X-ALT-DESC;FMTTYPE=text/html:<span style="font-size:14px\;"><span style="font-family:arial\;">Join us for a ribbon cutting ceremony for Emerald Coast Art! The ribbon cutting ceremony will commence at 4:00 p.m. We can&#39\;t wait to see you there!</span></span>
LOCATION:9100 Baytowne Wharf Blvd BA6 Miramar Beach\, FL 32550
UID:e.885.29132
SEQUENCE:3
DTSTAMP:20260422T110816Z
URL:https://business.waltonareachamber.com/events/details/ribbon-cutting-for-emerald-coast-art-29132
END:VEVENT

END:VCALENDAR
