BEGIN:VCALENDAR
VERSION:2.0
PRODID:-//ChamberMaster//Event Calendar 2.0//EN
METHOD:PUBLISH
X-PUBLISHED-TTL:P3D
REFRESH-INTERVAL:P3D
CALSCALE:GREGORIAN
BEGIN:VEVENT
DTSTART:20210910T140000Z
DTEND:20210910T143000Z
X-MICROSOFT-CDO-ALLDAYEVENT:FALSE
SUMMARY:Ribbon Cutting For Habitat for Humanity And Restore Grand Opening
DESCRIPTION:Habitat for Humanity Walton County and the Habitat ReStore would like to formally invite you to Grand Opening Ribbon Cutting ceremony hosted at their brand new ReStore!
X-ALT-DESC;FMTTYPE=text/html:Habitat for Humanity Walton County and the Habitat ReStore would like to formally invite you to Grand Opening Ribbon Cutting ceremony hosted at their brand new ReStore!
LOCATION:2440 Hwy 98 West Santa Rosa Beach\, FL 32459
UID:e.885.32408
SEQUENCE:3
DTSTAMP:20260423T025644Z
URL:https://business.waltonareachamber.com/events/details/ribbon-cutting-for-habitat-for-humanity-and-restore-grand-opening-32408
END:VEVENT

END:VCALENDAR
