BEGIN:VCALENDAR
VERSION:2.0
PRODID:-//ChamberMaster//Event Calendar 2.0//EN
METHOD:PUBLISH
X-PUBLISHED-TTL:P3D
REFRESH-INTERVAL:P3D
CALSCALE:GREGORIAN
BEGIN:VEVENT
DTSTART:20210518T210000Z
DTEND:20210518T220000Z
X-MICROSOFT-CDO-ALLDAYEVENT:FALSE
SUMMARY:Ribbon Cutting for James Sater\, State Farm
DESCRIPTION:Join us for a ribbon cutting ceremony and the grand opening of James Sater\, State Farm! We can't wait to see you there!\n\n\n\n111 N. County Hwy 393\, Suite 303\n\nSanta Rosa Beach\, FL 32459
X-ALT-DESC;FMTTYPE=text/html:<span style="font-size:14px\;"><span style="font-family:arial\;">Join us for a ribbon cutting ceremony and the grand opening of James Sater\, State Farm! We can&#39\;t wait to see you there!<br />\n<br />\n111 N. County Hwy 393\, Suite 303<br />\nSanta Rosa Beach\, FL 32459</span></span>
LOCATION:
UID:e.885.31097
SEQUENCE:3
DTSTAMP:20260422T142742Z
URL:https://business.waltonareachamber.com/events/details/ribbon-cutting-for-james-sater-state-farm-31097
END:VEVENT

END:VCALENDAR
