BEGIN:VCALENDAR
VERSION:2.0
PRODID:-//ChamberMaster//Event Calendar 2.0//EN
METHOD:PUBLISH
X-PUBLISHED-TTL:P3D
REFRESH-INTERVAL:P3D
CALSCALE:GREGORIAN
BEGIN:VEVENT
DTSTART:20210528T180000Z
DTEND:20210528T210000Z
X-MICROSOFT-CDO-ALLDAYEVENT:FALSE
SUMMARY:Ribbon Cutting for Mountain High Outfitters
DESCRIPTION:Join us for an open house and grand opening celebration for Mountain High Outfitters!\n\n\n\nThe ribbon cutting ceremony will commence at 1:15 p.m.\n\n\n\nMore details to follow. We can't wait to see you there!
X-ALT-DESC;FMTTYPE=text/html:<span style="font-size:14px\;"><span style="font-family:arial\;">Join us for an open house and grand opening celebration for Mountain High Outfitters!<br />\n<br />\nThe ribbon cutting ceremony will commence at 1:15 p.m.<br />\n<br />\nMore details to follow. We can&#39\;t wait to see you there!</span></span>
LOCATION:9375 Emerald Coast Pkwy Suite 3 Miramar Beach\, FL 32550
UID:e.885.31098
SEQUENCE:3
DTSTAMP:20260422T142736Z
URL:https://business.waltonareachamber.com/events/details/ribbon-cutting-for-mountain-high-outfitters-31098
END:VEVENT

END:VCALENDAR
