BEGIN:VCALENDAR
VERSION:2.0
PRODID:-//ChamberMaster//Event Calendar 2.0//EN
METHOD:PUBLISH
X-PUBLISHED-TTL:P3D
REFRESH-INTERVAL:P3D
CALSCALE:GREGORIAN
BEGIN:VEVENT
DTSTART:20210325T220000Z
DTEND:20210325T223000Z
X-MICROSOFT-CDO-ALLDAYEVENT:FALSE
SUMMARY:Ribbon Cutting for Provident Title
DESCRIPTION:Join us for a ribbon cutting for Provident Title's new office!\n\nStick around afterwards for our March Business After Hours\, sponsored by Provident Title!
X-ALT-DESC;FMTTYPE=text/html:<span style="font-size:14px\;"><span style="font-family:arial\;">Join us for a ribbon cutting for Provident Title&#39\;s new office!<br />\nStick around afterwards for our March Business After Hours\, sponsored by Provident Title!</span></span>
LOCATION:10343 E. Co. Hwy. 30A Suite 104 Seacrest Beach\, FL 32413
UID:e.885.29138
SEQUENCE:3
DTSTAMP:20260422T110739Z
URL:https://business.waltonareachamber.com/events/details/ribbon-cutting-for-provident-title-29138
END:VEVENT

END:VCALENDAR
