BEGIN:VCALENDAR
VERSION:2.0
PRODID:-//ChamberMaster//Event Calendar 2.0//EN
METHOD:PUBLISH
X-PUBLISHED-TTL:P3D
REFRESH-INTERVAL:P3D
CALSCALE:GREGORIAN
BEGIN:VEVENT
DTSTART:20210422T220000Z
DTEND:20210422T223000Z
X-MICROSOFT-CDO-ALLDAYEVENT:FALSE
SUMMARY:Ribbon Cutting for Signarama Freeport
DESCRIPTION:Join us for a ribbon cutting ceremony for Signarama Freeport!\n\n\n\nStay afterwards for our April Business After Hours\, hosted and sponsored by Signarama Freeport!
X-ALT-DESC;FMTTYPE=text/html:<span style="font-size:26px\;"><strong><span style="font-family:arial\;">Join us for a ribbon cutting ceremony for Signarama Freeport!<br />\n<br />\nStay afterwards for our April Business After Hours\, hosted and sponsored by Signarama Freeport!</span></strong></span>
LOCATION:Signarama Freeport 94A Bay Grove Blvd\, Freeport\, FL 32439
UID:e.885.29839
SEQUENCE:3
DTSTAMP:20260422T124915Z
URL:https://business.waltonareachamber.com/events/details/ribbon-cutting-for-signarama-freeport-29839
END:VEVENT

END:VCALENDAR
