BEGIN:VCALENDAR
VERSION:2.0
PRODID:-//ChamberMaster//Event Calendar 2.0//EN
METHOD:PUBLISH
X-PUBLISHED-TTL:P3D
REFRESH-INTERVAL:P3D
CALSCALE:GREGORIAN
BEGIN:VEVENT
DTSTART:20190401T200000Z
DTEND:20190401T210000Z
X-MICROSOFT-CDO-ALLDAYEVENT:FALSE
SUMMARY:Ribbon Cutting Planetsecure IP Cameras
DESCRIPTION:Join us for the Grand Opening Ribbon Cutting for Planetsecure IP Cameras. Light bites and beverages will be offered.
X-ALT-DESC;FMTTYPE=text/html:Join us for the Grand Opening Ribbon Cutting for Planetsecure IP Cameras. Light bites and beverages will be offered.
LOCATION:5008 US Hyw 98 West Unit 3 SRB
UID:e.885.23370
SEQUENCE:3
DTSTAMP:20260421T041752Z
URL:https://business.waltonareachamber.com/events/details/ribbon-cutting-planetsecure-ip-cameras-23370
END:VEVENT

END:VCALENDAR
