BEGIN:VCALENDAR
VERSION:2.0
PRODID:-//ChamberMaster//Event Calendar 2.0//EN
METHOD:PUBLISH
X-PUBLISHED-TTL:P3D
REFRESH-INTERVAL:P3D
CALSCALE:GREGORIAN
BEGIN:VEVENT
DTSTART:20260603T210000Z
DTEND:20260603T213000Z
X-MICROSOFT-CDO-ALLDAYEVENT:FALSE
SUMMARY:River Bank & Trust Grand Opening and Ribbon Cutting
DESCRIPTION:Join us as the Walton Area Chamber and the Destin Chamber come together to celebrate the Ribbon Cutting and Grand Opening of River Bank & Trust\, marking their first location in Florida.\n\n  36150 Emerald Coast Parkway\, Suite 106\, Destin\, FL 32541\n\n  Wednesday\, June 3\, 2026\n\n  4:00 PM Ribbon Cutting Ceremony\n\nRiver Bank & Trust will be welcoming guests with light refreshments and drinks as we celebrate this exciting milestone. This is a great opportunity to connect with fellow business professionals and show your support for a growing business in our community.\n\nWe look forward to celebrating together!
X-ALT-DESC;FMTTYPE=text/html:<p data-end="284" data-start="99">Join us as the Walton Area Chamber and the Destin Chamber come together to celebrate the Ribbon Cutting and Grand Opening of River Bank &amp\; Trust\, marking their first location in Florida.</p>\n\n<p data-end="389" data-start="286">&#128205\; 36150 Emerald Coast Parkway\, Suite 106\, Destin\, FL 32541<br data-end="348" data-start="345" />\n&#128467\; Wednesday\, June 3\, 2026<br data-end="377" data-start="374" />\n&#128339\; 4:00 PM Ribbon Cutting Ceremony</p>\n\n<p data-end="647" data-start="391">River Bank &amp\; Trust will be welcoming guests with light refreshments and drinks as we celebrate this exciting milestone. This is a great opportunity to connect with fellow business professionals and show your support for a growing business in our community.</p>\n\n<p data-end="689" data-start="649">We look forward to celebrating together!</p>\n
LOCATION:36150 Emerald Coast Parkway\, Suite 106\, Destin\, FL 32541
UID:e.885.57333
SEQUENCE:3
DTSTAMP:20260422T043952Z
URL:https://business.waltonareachamber.com/events/details/river-bank-trust-grand-opening-and-ribbon-cutting-57333
END:VEVENT

END:VCALENDAR
