BEGIN:VCALENDAR
VERSION:2.0
PRODID:-//ChamberMaster//Event Calendar 2.0//EN
METHOD:PUBLISH
X-PUBLISHED-TTL:P3D
REFRESH-INTERVAL:P3D
CALSCALE:GREGORIAN
BEGIN:VEVENT
DTSTART:20210613T000000Z
DTEND:20210613T020000Z
X-MICROSOFT-CDO-ALLDAYEVENT:FALSE
SUMMARY:Rock the Docks
DESCRIPTION:Rock the Docks | 7:00pm   9:00pm\n	Rock along the docks and under the stars to a free live concert!
X-ALT-DESC;FMTTYPE=text/html:<ul style="margin-bottom: 0in\; color: rgb(32\, 31\, 30)\; font-family: &quot\;Segoe UI&quot\;\, &quot\;Segoe UI Web (West European)&quot\;\, &quot\;Segoe UI&quot\;\, -apple-system\, BlinkMacSystemFont\, Roboto\, &quot\;Helvetica Neue&quot\;\, sans-serif\; font-size: 15px\; margin-top: 0in\;" type="disc">\n	<li class="x_MsoListParagraph" style="margin: 6pt 0in 0in\; font-size: 11pt\; font-family: Calibri\, sans-serif\; color: black\; background-image: initial\; background-position: initial\; background-size: initial\; background-repeat: initial\; background-attachment: initial\; background-origin: initial\; background-clip: initial\;"><span style="font-size:14px\;"><span style="font-family:arial\;">Rock the Docks | 7:00pm &ndash\; 9:00pm</span></span></li>\n	<li class="x_MsoListParagraph" style="margin: 0in\; font-size: 11pt\; font-family: Calibri\, sans-serif\; color: black\; background-image: initial\; background-position: initial\; background-size: initial\; background-repeat: initial\; background-attachment: initial\; background-origin: initial\; background-clip: initial\;"><span style="font-size:14px\;"><span style="font-family:arial\;">Rock along the docks and under the stars to a free live concert!</span></span></li>\n</ul>\n
LOCATION:HarborWalk Village Destin\, FL
UID:e.885.32340
SEQUENCE:3
DTSTAMP:20260422T214617Z
URL:https://business.waltonareachamber.com/events/details/rock-the-docks-06-12-2021-32340
END:VEVENT

END:VCALENDAR
