BEGIN:VCALENDAR
VERSION:2.0
PRODID:-//ChamberMaster//Event Calendar 2.0//EN
METHOD:PUBLISH
X-PUBLISHED-TTL:P3D
REFRESH-INTERVAL:P3D
CALSCALE:GREGORIAN
BEGIN:VEVENT
DTSTART:20220122T230000Z
DTEND:20220123T040000Z
X-MICROSOFT-CDO-ALLDAYEVENT:FALSE
SUMMARY:Rock the Refuge to RISE the Refuge!
DESCRIPTION:Join us as we Rock the Refuge to RISE the Refuge!\n \n\nOne Night of Fun and Music for a Cause! \n(80's attire encouraged!)\n\n \n\nHeadlining the show GREAT WHITE!\n\n \n\nAnd a performance by Aaron Ellis and an ALL STAR Band! \n\n \n\nDoors open at 5pm!\n\n \n\nLucille's Music Hall\n\n60 Seascape Dr.\n\nDestin\, FL 32439\n\n-Presentation about RISE Animal Refuge\n\n-Best 80's outfit contest\n\n-50/50 \n\n-Raffle\n\n \n\nGet your tickets today and join us as we RISE The Refuge \n\nTogether we RISE!!\n\n \n\nwww.RiseTheRefuge.com\n\n \n\n***All proceeds benefit RISE Animal Refuge.\n\n**Cororate Sponsorships available**\n\nEmail Info@RiseAnimalRefuge.org\n\n \n\nTicket link:\n\nRiseTheRefuge.com
X-ALT-DESC;FMTTYPE=text/html:<h4><span style="font-weight:normal\;"><span style="font-family:montserrat\;">Join us as we Rock the Refuge to RISE the Refuge!</span></span></h4>\n&nbsp\;\n\n<h4 aria-level="4" data-aid="CONTENT_HEADLINE1_RENDERED" data-font-scaled="true" data-typography="HeadingGamma" data-ux="ContentHeading" role="heading" style="box-sizing:inherit\;overflow-wrap:break-word\;max-width:100%\;"><span style="font-weight:normal\;"><span style="font-family:montserrat\;">One Night of Fun and Music for a Cause!&nbsp\;</span></span></h4>\n(80&rsquo\;s attire encouraged!)<br />\n&nbsp\;<br />\nHeadlining the show GREAT WHITE!<br />\n&nbsp\;<br />\nAnd a performance by Aaron Ellis and an ALL STAR Band!&nbsp\;<br />\n&nbsp\;<br />\nDoors open at 5pm!<br />\n&nbsp\;<br />\n<strong>Lucille&rsquo\;s Music Hall</strong><br />\n60 Seascape Dr.<br />\nDestin\, FL 32439<br />\n-Presentation about RISE Animal Refuge<br />\n-Best 80&rsquo\;s outfit contest<br />\n-50/50&nbsp\;<br />\n-Raffle<br />\n&nbsp\;<br />\nGet your tickets today and join us as we RISE The Refuge&nbsp\;<br />\nTogether we RISE!!<br />\n&nbsp\;<br />\n<a href="http://www.RiseTheRefuge.com">www.RiseTheRefuge.com</a><br />\n&nbsp\;<br />\n***All proceeds benefit RISE Animal Refuge.<br />\n**Cororate Sponsorships available**<br />\n<a href="mailto:Info@RiseAnimalRefuge.org">Email Info@RiseAnimalRefuge.org</a><br />\n&nbsp\;<br />\nTicket link:<br />\n<a href="http://RiseTheRefuge.com">RiseTheRefuge.com</a><br />\n&nbsp\;
LOCATION:Doors open at 5pm! Lucille's Music Hall 60 Seascape Dr. Destin\, FL 32439
UID:e.885.33234
SEQUENCE:3
DTSTAMP:20260423T082025Z
URL:https://business.waltonareachamber.com/events/details/rock-the-refuge-to-rise-the-refuge-33234
END:VEVENT

END:VCALENDAR
