BEGIN:VCALENDAR
VERSION:2.0
PRODID:-//ChamberMaster//Event Calendar 2.0//EN
METHOD:PUBLISH
X-PUBLISHED-TTL:P3D
REFRESH-INTERVAL:P3D
CALSCALE:GREGORIAN
BEGIN:VEVENT
DTSTART:20211024T000000Z
DTEND:20211024T020000Z
X-MICROSOFT-CDO-ALLDAYEVENT:FALSE
SUMMARY:Rocktober Concert Series at HarborWalk Village
DESCRIPTION:Watch the Destin Fishing Rodeo daily weigh-ins from 10:00am-7:00pm and then rock out to a free concert at 7:00pm on the Main Stage.  We will also have fireworks EVERY Saturday in October at HarborWalk Village!
X-ALT-DESC;FMTTYPE=text/html:<span style="font-family:calibri\,sans-serif\;"><span style="font-size:11.0pt\;">Watch the Destin Fishing Rodeo daily weigh-ins from 10:00am-7:00pm and then rock out to a free concert at 7:00pm on the Main Stage.&nbsp\;&nbsp\;</span></span>We will also have fireworks EVERY Saturday in October at HarborWalk Village!
LOCATION:10 Harbor Blvd | Destin\, FL 32541
UID:e.885.32423
SEQUENCE:3
DTSTAMP:20260423T044050Z
URL:https://business.waltonareachamber.com/events/details/rocktober-concert-series-at-harborwalk-village-32423
END:VEVENT

END:VCALENDAR
