BEGIN:VCALENDAR
VERSION:2.0
PRODID:-//ChamberMaster//Event Calendar 2.0//EN
METHOD:PUBLISH
X-PUBLISHED-TTL:P3D
REFRESH-INTERVAL:P3D
CALSCALE:GREGORIAN
BEGIN:VEVENT
DTSTART:20210522T130000Z
DTEND:20210522T210000Z
X-MICROSOFT-CDO-ALLDAYEVENT:FALSE
SUMMARY:Rotary Club of South Walton Pickle Ball Tournament
DESCRIPTION:Pickleball Tournament at the South Walton Boys & Girls Club on Greenway Trail\, Santa Rosa Beach\, Florida.
X-ALT-DESC;FMTTYPE=text/html:<span style="font-size:14px\;"><span style="font-family:arial\;"><span style="color: rgb(5\, 5\, 5)\;">Pickleball Tournament at the South Walton Boys &amp\; Girls Club on Greenway Trail\, Santa Rosa Beach\, Florida.</span></span></span>
LOCATION:Boys & Girls Club of the Emerald Coast
UID:e.885.31913
SEQUENCE:3
DTSTAMP:20260422T143426Z
URL:https://business.waltonareachamber.com/events/details/rotary-club-of-south-walton-pickle-ball-tournament-31913
END:VEVENT

END:VCALENDAR
