BEGIN:VCALENDAR
VERSION:2.0
PRODID:-//ChamberMaster//Event Calendar 2.0//EN
METHOD:PUBLISH
X-PUBLISHED-TTL:P3D
REFRESH-INTERVAL:P3D
CALSCALE:GREGORIAN
BEGIN:VEVENT
DTSTART:20240729T000000Z
DTEND:20240729T020000Z
X-MICROSOFT-CDO-ALLDAYEVENT:FALSE
SUMMARY:Scallywag Sunday
DESCRIPTION:Join us for magic\, music\, and mayhem! Watch as featured pirate Captain Davy takes you on an adventure with two magic shows on stage at 7:00 PM & 8:00 PM!
X-ALT-DESC;FMTTYPE=text/html:Join us for magic\, music\, and mayhem! Watch as featured pirate Captain Davy takes you on an adventure with two magic shows on stage at 7:00 PM &amp\; 8:00 PM!
LOCATION:The Village of Baytowne Wharf 9100 Baytowne Boulevard Miramar Beach\, FL 32550
UID:e.885.41309
SEQUENCE:3
DTSTAMP:20260425T170508Z
URL:https://business.waltonareachamber.com/events/details/scallywag-sunday-07-28-2024-41309
END:VEVENT

END:VCALENDAR
