BEGIN:VCALENDAR
VERSION:2.0
PRODID:-//ChamberMaster//Event Calendar 2.0//EN
METHOD:PUBLISH
X-PUBLISHED-TTL:P3D
REFRESH-INTERVAL:P3D
CALSCALE:GREGORIAN
BEGIN:VEVENT
DTSTART;VALUE=DATE:20210929
DTEND;VALUE=DATE:20211001
TRANSP:TRANSPARENT
X-MICROSOFT-CDO-ALLDAYEVENT:TRUE
SUMMARY:Sector Forward Conference
DESCRIPTION:The 5th Annual Sector Forward Conference is focused on exposing nonprofits and prospective investors to the social enterprise Collab Lab workshops\, education classes\, competitions and networking. The conference will introduce the concept of ideation and design-thinking to expand income\, inspire innovation and increase impact within the social sector. Participants will receive a swag bag with sponsors product/service savings\, admission to the intern and job fair and consultant corner. The conference will also include the opportunity for attendees to network during our signature Nonprofit After Dark. The mixer provides nonprofits with the opportunity to prospect for new board members and leaders to learn more about board service with participating organizations.
X-ALT-DESC;FMTTYPE=text/html:The 5th Annual Sector Forward Conference is focused on exposing nonprofits and prospective investors to the social enterprise Collab Lab workshops\, education classes\, competitions and networking. The conference will introduce the concept of ideation and design-thinking to expand income\, inspire innovation and increase impact within the social sector. Participants will receive a swag bag with sponsors product/service savings\, admission to the intern and job fair and consultant corner. The conference will also include the opportunity for attendees to network during our signature Nonprofit After Dark. The mixer provides nonprofits with the opportunity to prospect for new board members and leaders to learn more about board service with participating organizations.
LOCATION:Institute for Nonprofit Innovation and Excellence 300 W Pensacola St #3\, Tallahassee\, FL 32301
UID:e.885.32402
SEQUENCE:3
DTSTAMP:20260423T010444Z
URL:https://business.waltonareachamber.com/events/details/sector-forward-conference-32402
END:VEVENT

END:VCALENDAR
