BEGIN:VCALENDAR
VERSION:2.0
PRODID:-//ChamberMaster//Event Calendar 2.0//EN
METHOD:PUBLISH
X-PUBLISHED-TTL:P3D
REFRESH-INTERVAL:P3D
CALSCALE:GREGORIAN
BEGIN:VEVENT
DTSTART:20220915T213000Z
DTEND:20220915T233000Z
X-MICROSOFT-CDO-ALLDAYEVENT:FALSE
SUMMARY:September 2022 Business After Hours hosted at The Market Shops
DESCRIPTION:Please join us for our September 2022 Business After Hours at the Market Shops. Enjoy an evening of light bites and exploration of all that the Market Shops have to offer!
X-ALT-DESC;FMTTYPE=text/html:<span style="color:#000080\;"><span style="font-size:26px\;"><strong>Please join us for our September 2022 Business After Hours at the Market Shops. Enjoy an evening of light bites and exploration of all that the Market Shops have to offer!</strong></span></span>
LOCATION:9375 Emerald Coast Pkwy\, Miramar Beach\, FL 32550
UID:e.885.33265
SEQUENCE:3
DTSTAMP:20260423T211333Z
URL:https://business.waltonareachamber.com/events/details/september-2022-business-after-hours-hosted-at-the-market-shops-33265
END:VEVENT

END:VCALENDAR
