BEGIN:VCALENDAR
VERSION:2.0
PRODID:-//ChamberMaster//Event Calendar 2.0//EN
METHOD:PUBLISH
X-PUBLISHED-TTL:P3D
REFRESH-INTERVAL:P3D
CALSCALE:GREGORIAN
BEGIN:VEVENT
DTSTART:20220514T160000Z
DTEND:20220514T190000Z
X-MICROSOFT-CDO-ALLDAYEVENT:FALSE
SUMMARY:Shard Shop Anniversary Celebration
DESCRIPTION:Join us to celebrate the Shard Shop's anniversary with drawings\, free giveaways\, refreshments\, and art!
X-ALT-DESC;FMTTYPE=text/html:Join us to celebrate the Shard Shop&#39\;s anniversary with drawings\, free giveaways\, refreshments\, and art!
LOCATION:26 Logan Ln Cottage E Grayton Beach\, FL 32459
UID:e.885.33863
SEQUENCE:3
DTSTAMP:20260423T142901Z
URL:https://business.waltonareachamber.com/events/details/shard-shop-anniversary-celebration-33863
END:VEVENT

END:VCALENDAR
