BEGIN:VCALENDAR
VERSION:2.0
PRODID:-//ChamberMaster//Event Calendar 2.0//EN
METHOD:PUBLISH
X-PUBLISHED-TTL:P3D
REFRESH-INTERVAL:P3D
CALSCALE:GREGORIAN
BEGIN:VEVENT
DTSTART;VALUE=DATE:20220514
DTEND;VALUE=DATE:20220516
TRANSP:TRANSPARENT
X-MICROSOFT-CDO-ALLDAYEVENT:TRUE
SUMMARY:Shard Shop Locals Weekend
DESCRIPTION:Join us for our monthly locals weekend! Locals and snowbirds receive 20% off classes on the second weekend of the month. Call the Shard Shop at 850-231-0544 to book.
X-ALT-DESC;FMTTYPE=text/html:Join us for our monthly locals weekend! Locals and snowbirds receive 20% off classes on the second weekend of the month. Call the Shard Shop at 850-231-0544 to book.
LOCATION:26 Logan Ln Cottage E Grayton Beach\, FL 32459
UID:e.885.33864
SEQUENCE:3
DTSTAMP:20260423T143051Z
URL:https://business.waltonareachamber.com/events/details/shard-shop-locals-weekend-05-14-2022-33864
END:VEVENT

END:VCALENDAR
