BEGIN:VCALENDAR
VERSION:2.0
PRODID:-//ChamberMaster//Event Calendar 2.0//EN
METHOD:PUBLISH
X-PUBLISHED-TTL:P3D
REFRESH-INTERVAL:P3D
CALSCALE:GREGORIAN
BEGIN:VEVENT
DTSTART;VALUE=DATE:20220709
DTEND;VALUE=DATE:20220711
TRANSP:TRANSPARENT
X-MICROSOFT-CDO-ALLDAYEVENT:TRUE
SUMMARY:Shard Shop Locals Weekend
DESCRIPTION:Join us for our monthly locals weekend! Locals and snowbirds enjoy 20% off our ShardWorx Art Class - All Ages* (6+) classes at our Grayton Beach location. Call (850) 231-0544 to book or use code SSLocalsWknd from July 8 - 10 to book your July 9 or 10 classes.
X-ALT-DESC;FMTTYPE=text/html:Join us for our monthly locals weekend! Locals and snowbirds enjoy 20% off our ShardWorx Art Class - All Ages* (6+) classes at our Grayton Beach location. Call (850) 231-0544 to book or use code SSLocalsWknd from July 8 - 10 to book your July 9 or 10 classes.
LOCATION:Shard Shop 26 Logan Lane\, Cottage E Grayton Beach\, FL 32459
UID:e.885.33896
SEQUENCE:3
DTSTAMP:20260423T170634Z
URL:https://business.waltonareachamber.com/events/details/shard-shop-locals-weekend-07-09-2022-33896
END:VEVENT

END:VCALENDAR
