BEGIN:VCALENDAR
VERSION:2.0
PRODID:-//ChamberMaster//Event Calendar 2.0//EN
METHOD:PUBLISH
X-PUBLISHED-TTL:P3D
REFRESH-INTERVAL:P3D
CALSCALE:GREGORIAN
BEGIN:VEVENT
DTSTART:20210325T000000Z
DTEND:20210408T030000Z
X-MICROSOFT-CDO-ALLDAYEVENT:FALSE
SUMMARY:Silent Disco Party at HarborWalk Village
DESCRIPTION:Dance to your own beat with a silent disco experience in front of the main stage every Wednesday during Spring Break! Sanitized headphones provided. The party starts at 7:00 pm.\n\nLink: https://facebook.com/events/851181265724824/
X-ALT-DESC;FMTTYPE=text/html:<p class="x_MsoNormal" style="margin: 0in\; font-size: 11pt\; font-family: Calibri\, sans-serif\; color: rgb(32\, 31\, 30)\;"><span style="font-size:14px\;"><span style="font-family:arial\;"><span style="margin: 0px\; padding: 0px\; border: 0px\; font-style: inherit\; font-variant: inherit\; font-weight: inherit\; font-stretch: inherit\; line-height: inherit\; vertical-align: baseline\; color: rgb(51\, 51\, 51)\; background-image: initial\; background-position: initial\; background-size: initial\; background-repeat: initial\; background-attachment: initial\; background-origin: initial\; background-clip: initial\;">Dance to your own beat with a silent disco experience in front of the main stage every Wednesday during Spring Break! Sanitized headphones provided. The party starts at 7:00 pm.</span></span></span></p>\n\n<p class="x_MsoNormal" style="margin: 0in\; font-size: 11pt\; font-family: Calibri\, sans-serif\; color: rgb(32\, 31\, 30)\;"><span style="font-size:14px\;"><span style="font-family:arial\;">Link:&nbsp\;<a data-auth="NotApplicable" href="https://facebook.com/events/851181265724824/" rel="noopener noreferrer" style="margin: 0px\; padding: 0px\; border: 0px\; font: inherit\; vertical-align: baseline\; color: rgb(5\, 99\, 193)\;" target="_blank">https://facebook.com/events/851181265724824/</a></span></span></p>\n
LOCATION:HarborWalk Village Destin\, FL
UID:e.885.29158
SEQUENCE:3
DTSTAMP:20260422T111107Z
URL:https://business.waltonareachamber.com/events/details/silent-disco-party-at-harborwalk-village-03-24-2021-29158
END:VEVENT

END:VCALENDAR
