BEGIN:VCALENDAR
VERSION:2.0
PRODID:-//ChamberMaster//Event Calendar 2.0//EN
METHOD:PUBLISH
X-PUBLISHED-TTL:P3D
REFRESH-INTERVAL:P3D
CALSCALE:GREGORIAN
BEGIN:VEVENT
DTSTART:20210720T000000Z
DTEND:20210720T030000Z
X-MICROSOFT-CDO-ALLDAYEVENT:FALSE
SUMMARY:Silent Disco Party at HarborWalk Village
DESCRIPTION:Dance to your own beat with a silent disco experience in front of the main stage every Monday throughout the Summer! Sanitized headphones provided. The party starts at 7:00 pm.
X-ALT-DESC;FMTTYPE=text/html:<div class="x_MsoListParagraph" style="margin: 0in\; font-size: 11pt\; font-family: Calibri\, sans-serif\; color: black\; background-image: initial\; background-position: initial\; background-size: initial\; background-repeat: initial\; background-attachment: initial\; background-origin: initial\; background-clip: initial\;"><span style="font-size:14px\;"><span style="font-family:arial\;">Dance to your own beat with a silent disco experience in front of the main stage every Monday throughout the Summer! Sanitized headphones provided. The party starts at 7:00 pm.</span></span></div>\n
LOCATION:HarborWalk Village Destin\, FL
UID:e.885.32124
SEQUENCE:3
DTSTAMP:20260422T214840Z
URL:https://business.waltonareachamber.com/events/details/silent-disco-party-at-harborwalk-village-07-19-2021-32124
END:VEVENT

END:VCALENDAR
