BEGIN:VCALENDAR
VERSION:2.0
PRODID:-//ChamberMaster//Event Calendar 2.0//EN
METHOD:PUBLISH
X-PUBLISHED-TTL:P3D
REFRESH-INTERVAL:P3D
CALSCALE:GREGORIAN
BEGIN:VEVENT
DTSTART:20210411T153000Z
DTEND:20210411T173000Z
X-MICROSOFT-CDO-ALLDAYEVENT:FALSE
SUMMARY:Sinfonia Gulf Coast Gospel Brunch featuring D’Vine
DESCRIPTION:The National Endowment for the Arts describes D'Vine as an American masterpiece\, whose artistic excellence and significant contribution to its artform has left a lasting impression on the national landscape. Paula Saunders\, Pam Deas and Sheryl Pollard Riggins have performed for millions of people around the world. From the Olympic Games in Atlanta\, Georgia to Athens\, Greece\, D'Vine has traveled the world delivering songs that linger in the hearts of audiences long after the group has left the stage. Ticket price includes performance\, brunch and all gratuities. Bloody Mary\, Mimosa and cash bars will be available.
X-ALT-DESC;FMTTYPE=text/html:<span style="font-size:14px\;"><span style="font-family:arial\;"><span style="color: rgb(0\, 0\, 0)\;">The National Endowment for the Arts describes D&rsquo\;Vine as an American masterpiece\, whose artistic excellence and significant contribution to its artform has left a lasting impression on the national landscape. Paula Saunders\, Pam Deas and Sheryl Pollard Riggins have performed for millions of people around the world. From the Olympic Games in Atlanta\, Georgia to Athens\, Greece\, D&rsquo\;Vine has traveled the world delivering songs that linger in the hearts of audiences long after the group has left the stage. Ticket price includes performance\, brunch and all gratuities. Bloody Mary\, Mimosa and cash bars will be available.</span></span></span>
LOCATION:Hotel Effie Sandestin 1 Grand Sandestin Boulevard Miramar Beach\, FL 32550
UID:e.885.29408
SEQUENCE:3
DTSTAMP:20260422T124948Z
URL:https://business.waltonareachamber.com/events/details/sinfonia-gulf-coast-gospel-brunch-featuring-d-vine-29408
END:VEVENT

END:VCALENDAR
