BEGIN:VCALENDAR
VERSION:2.0
PRODID:-//ChamberMaster//Event Calendar 2.0//EN
METHOD:PUBLISH
X-PUBLISHED-TTL:P3D
REFRESH-INTERVAL:P3D
CALSCALE:GREGORIAN
BEGIN:VEVENT
DTSTART:20210305T220000Z
DTEND:20210306T000000Z
X-MICROSOFT-CDO-ALLDAYEVENT:FALSE
SUMMARY:Sip N'Stroll at J.Leon Gallery + Studio
DESCRIPTION:Enjoy an evening of art at J.Leon Gallery and Studio with wine\, champagne\, and light snacks. Get the chance to meet local artists and view work from artists both regionally and from the Okaloosa/Walton area- including painters\, mixed media artists\, ceramics artists\, and illustrators. Tour our gallery and fully functioning ceramics studio and delight in a night of creativity.
X-ALT-DESC;FMTTYPE=text/html:Enjoy an evening of art at J.Leon Gallery and Studio with wine\, champagne\, and light snacks. Get the chance to meet local artists and view work from artists both regionally and from the Okaloosa/Walton area- including painters\, mixed media artists\, ceramics artists\, and illustrators. Tour our gallery and fully functioning ceramics studio and delight in a night of creativity.
LOCATION:J.Leon Gallery + Studio 13370 US Highway 98 Miramar Beach\, FL 32550
UID:e.885.29090
SEQUENCE:3
DTSTAMP:20260422T110816Z
URL:https://business.waltonareachamber.com/events/details/sip-n-stroll-at-j-leon-gallery-studio-03-05-2021-29090
END:VEVENT

END:VCALENDAR
