BEGIN:VCALENDAR
VERSION:2.0
PRODID:-//ChamberMaster//Event Calendar 2.0//EN
METHOD:PUBLISH
X-PUBLISHED-TTL:P3D
REFRESH-INTERVAL:P3D
CALSCALE:GREGORIAN
BEGIN:VEVENT
DTSTART:20210507T220000Z
DTEND:20210508T000000Z
X-MICROSOFT-CDO-ALLDAYEVENT:FALSE
SUMMARY:Sip N' Stroll at J.Leon Gallery + Studio
DESCRIPTION:Enjoy an evening of art at J.Leon Gallery and Studio with wine\, champagne\, and light snacks. Get the chance to meet local artists and view work from artists both regionally and from the Okaloosa/Walton area- including painters\, mixed media artists\, ceramics artists\, and illustrators. Tour our gallery and fully functioning ceramics studio and delight in a night of creativity.
X-ALT-DESC;FMTTYPE=text/html:<span style="font-size:14px\;"><span style="font-family:arial\;">Enjoy an evening of art at J.Leon Gallery and Studio with wine\, champagne\, and light snacks. Get the chance to meet local artists and view work from artists both regionally and from the Okaloosa/Walton area- including painters\, mixed media artists\, ceramics artists\, and illustrators. Tour our gallery and fully functioning ceramics studio and delight in a night of creativity.</span></span>
LOCATION:J.Leon Gallery and Studio 13370 US-98\, Miramar Beach\, FL 32550
UID:e.885.30080
SEQUENCE:3
DTSTAMP:20260422T142615Z
URL:https://business.waltonareachamber.com/events/details/sip-n-stroll-at-j-leon-gallery-studio-05-07-2021-30080
END:VEVENT

END:VCALENDAR
