BEGIN:VCALENDAR
VERSION:2.0
PRODID:-//ChamberMaster//Event Calendar 2.0//EN
METHOD:PUBLISH
X-PUBLISHED-TTL:P3D
REFRESH-INTERVAL:P3D
CALSCALE:GREGORIAN
BEGIN:VEVENT
DTSTART:20220622T170000Z
DTEND:20220622T181500Z
X-MICROSOFT-CDO-ALLDAYEVENT:FALSE
SUMMARY:Small Business Connect at Destiny Worship Center
DESCRIPTION:Small Business Connect Hosts Florida's Small Business Development Center's Asst. Director Wed June 22nd\n\nThe Florida SBDC  provides no-cost consulting services to current or aspiring small business owners. FSBDC at UWF services includes training programs\, market research\, business plans\, access to capital\, feasibility studies\, sales growth\, marketing plans\, government contracting\, and assistance to minority-owned businesses.\n\nIf you manage a  small business and are looking to grow\, or you are considering starting a small business\, this presentation will be of interest.\n\nTerry Mauer\, recently promoted to Assistant Director of the Florida SBDC at UWF\, Panama City region\, is a hospitality professional with over twenty years of specialized experience. He has held leadership positions in both corporate and independent hospitality organizations. For the majority of the past decade\, he has devoted his time to assisting independent restaurateurs  develop\, launch\, and expand new and existing lodging\, food and beverage\, and entertainment concepts throughout the region.\n\nTerry's expertise includes:\n\n Concept Development & Planning\n\n High-performance Team Building\n\n Financial Management & Analysis\n\n Grassroots Marketing\n\n Guest Service Strategy and Implementation\n\n Continuous Performance Improvement\n\n Operational Analysis & Process Development\n\n \n\nThe meeting will run from noon till 1:15pm. Small Business Connect is a Free business networking group meeting each Wednesday at Destiny Worship Center in Miramar Beach. The group has been meeting for the past 6 years\, sharing referrals and offering small business support. The group meets at noon-time for Lunch\, which can be purchased at the DWC caf  for only $7 (Includes salads\, delicious sandwiches\, a side and a drink). You do not have to be a member of the church to attend.\n\n Small Business Connect has no fees or extensive requirements and is a non exclusive type group. If you are interested in attending please contact Dave White\, Dave@Southwalton.life  or or call Minh Nguyen\, 850-376-3412 for more information.\n\nRegister online at destinyworshipcenter.com/smallgroups to find small business connect.
X-ALT-DESC;FMTTYPE=text/html:<strong>Small Business Connect Hosts Florida&rsquo\;s Small Business Development Center&rsquo\;s Asst. Director Wed June 22nd</strong><br />\n<span style="color:#222222\;"><span style="font-family:georgia\,serif\;">The Florida SBDC&nbsp\; provides no-cost consulting services to current or aspiring small business owners. FSBDC at UWF services includes training programs\, market research\, business plans\, access to capital\, feasibility studies\, sales growth\, marketing plans\, government contracting\, and assistance to minority-owned businesses.</span></span><br />\n<span style="color:#222222\;"><span style="font-family:georgia\,serif\;">If you manage a&nbsp\; small business and are looking to grow\, or you are considering starting a small business\, this presentation will be of interest.</span></span><br />\n<span style="color:black\;"><span style="font-family:georgia\,serif\;">Terry Mauer\, recently promoted to Assistant Director of the Florida SBDC at UWF\, Panama City region\, is</span></span><span style="color:#323232\;"><span style="font-family:georgia\,serif\;"> a hospitality professional with over twenty years of specialized experience. He has held leadership positions in both corporate and independent hospitality organizations. For the majority of the past decade\, he has devoted his time to assisting independent restaurateurs&nbsp\; develop\, launch\, and expand new and existing lodging\, food and beverage\, and entertainment concepts throughout the region.</span></span><br />\n<span style="color:#222222\;"><span style="font-family:georgia\,serif\;">Terry&rsquo\;s expertise includes:</span></span><br />\n<span style="color:#323232\;"><span style="font-family:georgia\,serif\;">&bull\;Concept Development &amp\; Planning</span></span><br />\n<span style="color:#323232\;"><span style="font-family:georgia\,serif\;">&bull\;High-performance Team Building</span></span><br />\n<span style="color:#323232\;"><span style="font-family:georgia\,serif\;">&bull\;Financial Management &amp\; Analysis</span></span><br />\n<span style="color:#323232\;"><span style="font-family:georgia\,serif\;">&bull\;Grassroots Marketing</span></span><br />\n<span style="color:#323232\;"><span style="font-family:georgia\,serif\;">&bull\;Guest Service Strategy and Implementation</span></span><br />\n<span style="color:#323232\;"><span style="font-family:georgia\,serif\;">&bull\;Continuous Performance Improvement</span></span><br />\n<span style="color:#323232\;"><span style="font-family:georgia\,serif\;">&bull\;Operational Analysis &amp\; Process Development</span></span><br />\n&nbsp\;<br />\nThe meeting will run from noon till 1:15pm. Small Business Connect is a Free business networking group meeting each Wednesday at Destiny Worship Center in Miramar Beach. The group has been meeting for the past 6 years\, sharing referrals and offering small business support. The group meets at noon-time for Lunch\, which can be purchased at the DWC caf&eacute\; for only $7 (Includes salads\, delicious sandwiches\, a side and a drink). You do not have to be a member of the church to attend.<br />\n&nbsp\;Small Business Connect has no fees or extensive requirements and is a non exclusive type group. If you are interested in attending please contact Dave White\, Dave@Southwalton.life&nbsp\; or or call Minh Nguyen\, 850-376-3412 for more information.<br />\nRegister online at destinyworshipcenter.com/smallgroups to find small business connect.<br />\n&nbsp\;<br />\n&nbsp\;<br />\n&nbsp\;<br />\n&nbsp\;<br />\n&nbsp\;<br />\n&nbsp\;<br />\n&nbsp\;
LOCATION:Destiny Worship Center 122 Poinciana Blvd Miramar Beach\, FL 32550
UID:e.885.33639
SEQUENCE:3
DTSTAMP:20260423T154736Z
URL:https://business.waltonareachamber.com/events/details/small-business-connect-06-22-2022-33639
END:VEVENT

END:VCALENDAR
