BEGIN:VCALENDAR
VERSION:2.0
PRODID:-//ChamberMaster//Event Calendar 2.0//EN
METHOD:PUBLISH
X-PUBLISHED-TTL:P3D
REFRESH-INTERVAL:P3D
CALSCALE:GREGORIAN
BEGIN:VEVENT
DTSTART:20220330T170000Z
DTEND:20220330T181500Z
X-MICROSOFT-CDO-ALLDAYEVENT:FALSE
SUMMARY:Small Business Connect at Destiny Worship Center
DESCRIPTION:Join us at Destiny Worship Center every Wednesday for a professional networking group. Connect with your fellow business owners and professionals for prayer\, fellowship\, and business support.  Formal meeting 1 hr. per week\, order lunch at the Fireside Cafe!
X-ALT-DESC;FMTTYPE=text/html:Join us at Destiny Worship Center every Wednesday for a professional networking group. Connect with your fellow business owners and professionals for prayer\, fellowship\, and business support.&nbsp\; Formal meeting 1 hr. per week\, order lunch at the Fireside Cafe!<br />\n&nbsp\;
LOCATION:Destiny Worship Center 122 Poinciana Blvd Miramar Beach\, FL 32550
UID:e.885.33627
SEQUENCE:3
DTSTAMP:20260423T111717Z
URL:https://business.waltonareachamber.com/events/details/small-business-connect-at-destiny-worship-center-33627
END:VEVENT

END:VCALENDAR
