BEGIN:VCALENDAR
VERSION:2.0
PRODID:-//ChamberMaster//Event Calendar 2.0//EN
METHOD:PUBLISH
X-PUBLISHED-TTL:P3D
REFRESH-INTERVAL:P3D
CALSCALE:GREGORIAN
BEGIN:VEVENT
DTSTART:20210915T223000Z
DTEND:20210916T010000Z
X-MICROSOFT-CDO-ALLDAYEVENT:FALSE
SUMMARY:Solaris Dinner Cruise Benefiting the Taylor Haugen Foundation
DESCRIPTION:Join the Taylor Haugen Foundation aboard the SunQuest Cruise SOLARIS for a dinner cruise fundraiser! Sail towards the sunset while enjoying fine yacht cuisine and chef chosen dessert\, an exciting live auction\, music\, and a great time with the foundation's community ambassadors while aboard this wonderful dining cruise! Proceeds raised go directly toward the Taylor Haugen Foundation's mission of honoring T's legacy and protecting youth athletes from abdominal injuries.
X-ALT-DESC;FMTTYPE=text/html:Join the Taylor Haugen Foundation aboard the SunQuest Cruise SOLARIS for a dinner cruise fundraiser! Sail towards the sunset while enjoying fine yacht cuisine and chef chosen dessert\, an exciting live auction\, music\, and a great time with the foundation&rsquo\;s community ambassadors while aboard this wonderful dining cruise! Proceeds raised go directly toward the Taylor Haugen Foundation&rsquo\;s mission of honoring T&rsquo\;s legacy and protecting youth athletes from abdominal injuries.
LOCATION:SunQuest Cruises SOLARIS Yacht 8330 Mike Hayes Drive\, Miramar Beach
UID:e.885.32418
SEQUENCE:3
DTSTAMP:20260423T010642Z
URL:https://business.waltonareachamber.com/events/details/solaris-dinner-cruise-benefiting-the-taylor-haugen-foundation-32418
END:VEVENT

END:VCALENDAR
