BEGIN:VCALENDAR
VERSION:2.0
PRODID:-//ChamberMaster//Event Calendar 2.0//EN
METHOD:PUBLISH
X-PUBLISHED-TTL:P3D
REFRESH-INTERVAL:P3D
CALSCALE:GREGORIAN
BEGIN:VEVENT
DTSTART:20210624T210000Z
DTEND:20210624T230000Z
X-MICROSOFT-CDO-ALLDAYEVENT:FALSE
SUMMARY:Soleil Soiree at Heritage Dunes
DESCRIPTION:Soleil Soiree at Heritage Dunes\n\n\n\n\nYou are cordially invited to Soleil Soir e\, a ribbon cutting and ground breaking in celebration of The Heritage   A VIE Legacy Show Home\, coming Summer 2022 to the Heritage Dunes community in Seagrove Beach\, Florida. The event will take place Thursday\, June 24\, 2021\, from 4:00 p.m. until 6:00 p.m. This casual event will serve as the official launch of the Heritage Dunes north community developed by Bella Mare Real Estate Holdings\, LLC. The Heritage   a VIE Legacy Show Home is the first of nine luxury homes with Gulf views being planned within this private and treasured neighborhood. Join Bella Mare Real Estate Holdings\, VIE magazine\, and the exclusive listing agents from La Florida real estate for an afternoon informational ribbon-cutting ceremony followed by celebratory cocktails and small bites by  clat 30a. Members of the South Walton real estate community are encouraged to attend\, along with anyone else who would like to learn more and see the future home of this beautiful legacy neighborhood along Scenic Highway 30-A.\n\nPlease note the ground breaking ceremony will commence at 4:30 p.m.
X-ALT-DESC;FMTTYPE=text/html:<div style="margin: 0px\; padding: 0px\; border: 0px\; font-variant-numeric: inherit\; font-variant-east-asian: inherit\; font-stretch: inherit\; line-height: inherit\; font-family: &quot\;Open Sans&quot\;\, &quot\;Helvetica Neue&quot\;\, Helvetica\, Arial\, sans-serif\; vertical-align: baseline\; color: rgb(32\, 31\, 30)\; overflow-x: auto\; box-sizing: border-box\;"><span style="font-size:14px\;"><span style="font-family:arial\;"><strong style="box-sizing: border-box\;">Soleil Soiree at Heritage Dunes</strong></span></span></div>\n\n<div style="margin: 0px\; padding: 0px\; border: 0px\; font-variant-numeric: inherit\; font-variant-east-asian: inherit\; font-stretch: inherit\; line-height: inherit\; font-family: &quot\;Open Sans&quot\;\, &quot\;Helvetica Neue&quot\;\, Helvetica\, Arial\, sans-serif\; vertical-align: baseline\; color: rgb(32\, 31\, 30)\; overflow-x: auto\; box-sizing: border-box\;">\n<p style="margin: 0px 0px 8px\; box-sizing: border-box\;"><br />\n<span style="font-size:14px\;"><span style="font-family:arial\;">You are cordially invited to Soleil Soir&eacute\;e\, a ribbon cutting and ground breaking in celebration of The Heritage &ndash\; A VIE Legacy Show Home\, coming Summer 2022 to the Heritage Dunes community in Seagrove Beach\, Florida. The event will take place Thursday\, June 24\, 2021\, from 4:00 p.m. until 6:00 p.m. This casual event will serve as the official launch of the Heritage Dunes north community developed by Bella Mare Real Estate Holdings\, LLC. The Heritage &ndash\; a VIE Legacy Show Home is the first of nine luxury homes with Gulf views being planned within this private and treasured neighborhood. Join Bella Mare Real Estate Holdings\, VIE magazine\, and the exclusive listing agents from La Florida real estate for an afternoon informational ribbon-cutting ceremony followed by celebratory cocktails and small bites by &Eacute\;clat 30a. Members of the South Walton real estate community are encouraged to attend\, along with anyone else who would like to learn more and see the future home of this beautiful legacy neighborhood along Scenic Highway 30-A.</span></span></p>\n\n<p style="margin: 8px 0px 0px\; box-sizing: border-box\;"><span style="font-size:14px\;"><span style="font-family:arial\;">Please note the ground breaking ceremony will commence at 4:30 p.m</span></span>.</p>\n</div>\n
LOCATION:Heritage Dunes 68 Heritage Dunes Lane North Santa Rosa Beach\, FL 32459
UID:e.885.32352
SEQUENCE:3
DTSTAMP:20260422T200307Z
URL:https://business.waltonareachamber.com/events/details/soleil-soiree-at-heritage-dunes-32352
END:VEVENT

END:VCALENDAR
