BEGIN:VCALENDAR
VERSION:2.0
PRODID:-//ChamberMaster//Event Calendar 2.0//EN
METHOD:PUBLISH
X-PUBLISHED-TTL:P3D
REFRESH-INTERVAL:P3D
CALSCALE:GREGORIAN
BEGIN:VEVENT
DTSTART:20220602T233000Z
DTEND:20220603T013000Z
X-MICROSOFT-CDO-ALLDAYEVENT:FALSE
SUMMARY:Sounds Like Summer - The Adventures of Little Red Riding Hood
DESCRIPTION:This summer\, enjoy live music\, theater\, outdoor movies and more under the shade of The Pavilion at Watersound Town Center. JUNE 2 - The Adventures of Little Red Riding Hood (The REP children's play) FULL SUMMER DETAILS: Enjoy a different children's play every month from The Seaside REP or movie nights feature classic films and new family favorites. The 30A Songwriter's Festival Showcase will feature nationally known artists like Shawn Mullins Trio and The Honeycutters. With ample parking\, a covered pavilion\, and even ceiling fans   the Pavilion at Watersound Town Center is quickly becoming South Walton's destination for outdoor events. June 2: The Adventures of Little Red Riding Hood   The REP (children's play) June 9: Shawn Mullins Trio   30A Songwriters Summer Series June 16: Soul   Outdoor Movie Night June 23: Kids Crafts and Music June 30: The Sandlot   Outdoor Movie Night July 7: Alice's Adventures in Wonderland   The REP (children's play) July 14: Amanda Anne Platt & The Honeycutters   30A Songwriters Summer Series July 21: Encanto   Outdoor Movie Night July 28: Kids Crafts and Music August 4: Beauty and the Beast   The REP (children's play) August 11: J & The Causeways   30A Songwriters Summer Series August 18: Sing 2   Outdoor Movie Night
X-ALT-DESC;FMTTYPE=text/html:This summer\, enjoy live music\, theater\, outdoor movies and more under the shade of The Pavilion at Watersound Town Center. JUNE 2 - The Adventures of Little Red Riding Hood (The REP children&#39\;s play) FULL SUMMER DETAILS: Enjoy a different children&rsquo\;s play every month from The Seaside REP or movie nights feature classic films and new family favorites. The 30A Songwriter&rsquo\;s Festival Showcase will feature nationally known artists like Shawn Mullins Trio and The Honeycutters. With ample parking\, a covered pavilion\, and even ceiling fans &ndash\; the Pavilion at Watersound Town Center is quickly becoming South Walton&rsquo\;s destination for outdoor events. June 2: The Adventures of Little Red Riding Hood &ndash\; The REP (children&rsquo\;s play) June 9: Shawn Mullins Trio &ndash\; 30A Songwriters Summer Series June 16: Soul &ndash\; Outdoor Movie Night June 23: Kids Crafts and Music June 30: The Sandlot &ndash\; Outdoor Movie Night July 7: Alice&#39\;s Adventures in Wonderland &ndash\; The REP (children&rsquo\;s play) July 14: Amanda Anne Platt &amp\; The Honeycutters &ndash\; 30A Songwriters Summer Series July 21: Encanto &ndash\; Outdoor Movie Night July 28: Kids Crafts and Music August 4: Beauty and the Beast &ndash\; The REP (children&rsquo\;s play) August 11: J &amp\; The Causeways &ndash\; 30A Songwriters Summer Series August 18: Sing 2 &ndash\; Outdoor Movie Night
LOCATION:180 N WATERSOUND PARKWAY\, WATERSOUND\, FL 32461
UID:e.885.33882
SEQUENCE:3
DTSTAMP:20260423T171301Z
URL:https://business.waltonareachamber.com/events/details/sounds-like-summer-the-adventures-of-little-red-riding-hood-33882
END:VEVENT

END:VCALENDAR
