BEGIN:VCALENDAR
VERSION:2.0
PRODID:-//ChamberMaster//Event Calendar 2.0//EN
METHOD:PUBLISH
X-PUBLISHED-TTL:P3D
REFRESH-INTERVAL:P3D
CALSCALE:GREGORIAN
BEGIN:VEVENT
DTSTART;VALUE=DATE:20220422
DTEND;VALUE=DATE:20220425
TRANSP:TRANSPARENT
X-MICROSOFT-CDO-ALLDAYEVENT:TRUE
SUMMARY:South Walton Beaches Wine and Food Festival
DESCRIPTION:Wine & Spirits Celebrities Named for South Walton Beaches Wine and Food Festival\, April 21 - 24\, 2022\n\nWine\, charity and fun converge for The Northwest Florida Beaches Ultimate Wine Week\n\n \n\nA dazzling roster of celebrity winemakers\, mixologists\, and chefs will converge April 21-24\, 2022 in idyllic South Walton's Grand Boulevard Town Center to wine\, dine\, educate and entertain guests as part of the four-day celebration of wine\, spirits\, food\, music\, fun and goodwill. South Walton Beaches Wine & Food Festival is celebrating its 10-year anniversary. Cheers to 10!\n\n \n\nAn award-winning\, nationally ranked event\, the South Walton Beaches Wine & Food Festival draws wine and food industry icons such as Peter Mondavi\, Jr.\, Marc Perrin\, Don Hartford\, Cristina Mariani-May\, Jean-Charles Boissett\, Norman Van Aken and South Walton's own Chef Emeril Lagasse and many more. Given the caliber of A-list participants\, it's no wonder USA Today touted it as "one of the South's stand out food and beverage festivals."\n\n \n\nSpecial guests for the 2022 festival include Greg Brewer of Brewer-Clifton\, who was named winemaker of the Year for 2020 by Wine Enthusiast Magazine\, Jill Russell of Cambria\, Niccolo Maltini with Antinori\, which will be featured in the culinary village\, with a pairing menu to taste. Guest distillers include Freddie Noe of Jim Beam\, Knob Creek and Basil Hayden\, and Lisa Wicker with Willow Jane bourbon. Nathan Aldridge is the Manager of Education for the Institut Du Fromage and known for his passionate & fun approach to spreading the gospel of cheese.  \n\n \n\nChateau Minuty Ros  will have a St. Tropez lifestyle tent and Jackson Family Wines will be poured in a featured tent as well. \n\n \n\nWines from Italy will be featured in the Savor South Walton Culinary Village where Antinori and Natalia Verga wines will be paired with an Italian tasting menu.\n\nIn addition to pouring their wines and spirits\, participating celebrities will lead tasting seminars on both Saturday and Sunday in the Seminar tent and stage.\n\n \n\nThe festival kicks off Thursday at 5 p.m.   7 p.m. with Winemakers & Shakers\, held at Wine World in Destin. The VIP Wine Tasting takes place Friday\, 4 p.m.   6 p.m.\, followed by the Friday night Craft Beer & Spirits Jam\, 6 p.m.   9 p.m. The Grand Tastings are Saturday and Sunday\, 1 p.m.   4 p.m. The VIP Tasting ticket is sold out.\n\n \n\nTickets can be purchased at www.SoWalWine.com. \n\n \n\nThe South Walton Beaches Wine and Food Festival is truly a celebration of wine\, food and music that everyone can feel good about. This event is a major fundraiser for the Destin Charity Wine Auction Foundation with proceeds benefiting more than a dozen children's charities in Northwest Florida. \n\n \n\nPresented by Grand Boulevard at Sandestin and Visit South Walton\, the festival offers the ideal backdrop for wine\, charity and fun along the South Walton beaches\, named among the best beaches in the country. \n\nSouth Walton Beaches Wine & Food Festival is made possible by the generous support of the following Founding Partners: Visit South Walton Tourist Development Council\, Florida Restaurant & Lodging Association\, Hilton Sandestin Beach Golf Resort & Spa\, Wine World of Northwest Florida and Grand Boulevard at Sandestin . \n\n \n\nAbout South Walton Beaches Wine & Food Festival\n\nSouth Walton Beaches Wine & Food Festival is an annual charity event held the last weekend in April. The festival features a stunning showcase of some of the best wines in the world. Celebrity wine producers and chefs present fine wine and food pairings from the world's most famous appellations. The Culinary Village offers a sumptuous array of foods to taste\, wines to pair\, as well as wine and food tasting seminars. The event is a major fundraiser for Destin Charity Wine Auction Foundation\, which benefits children in need in Northwest Florida. For more information and to purchase tickets\, visit www.SoWalWine.com.\n\n \n\nCONTACT:\n\nFor South Walton Beaches Wine & Food Festival\n\nStacey Brady\, Director of Marketing and Communications\n\nGrand Boulevard at Sandestin\n\n850.837.3099 ext. 203\n\nstacey@grandboulevard.com
X-ALT-DESC;FMTTYPE=text/html:<span style="font-family:times new roman\,serif\;">&nbsp\;</span><strong><span style="font-family:times new roman\,serif\;"><span style="font-size:14.0pt\;">Wine &amp\; Spirits Celebrities Named for South Walton Beaches Wine and Food Festival\, April 21 - 24\, 2022</span></span></strong><br />\n<em><span style="font-family:times new roman\,serif\;">Wine\, charity and fun converge for The Northwest Florida Beaches Ultimate Wine Week</span></em><br />\n&nbsp\;<br />\n<span style="font-family:cambria\,serif\;"><span style="font-size:12.0pt\;">A dazzling roster of celebrity winemakers\, mixologists\, and chefs will converge April 21-24\, 2022 in idyllic South Walton&rsquo\;s Grand Boulevard Town Center to wine\, dine\, educate and entertain guests as part of the four-day celebration of wine\, spirits\, food\, music\, fun and goodwill. South Walton Beaches Wine &amp\; Food Festival is celebrating its 10-year anniversary. Cheers to 10!</span></span><br />\n&nbsp\;<br />\n<span style="font-family:cambria\,serif\;"><span style="font-size:12.0pt\;">An award-winning\, nationally ranked event\, the South Walton Beaches Wine &amp\; Food Festival draws wine and food industry icons such as Peter Mondavi\, Jr.\, Marc Perrin\, Don Hartford\, Cristina Mariani-May\, Jean-Charles Boissett\, Norman Van Aken and South Walton&rsquo\;s own Chef Emeril Lagasse and many more. Given the caliber of A-list participants\, it&rsquo\;s no wonder USA Today touted it as &ldquo\;one of the South&rsquo\;s stand out food and beverage festivals.&rdquo\;</span></span><br />\n&nbsp\;<br />\n<span style="font-family:cambria\,serif\;"><span style="font-size:12.0pt\;">Special guests for the 2022 festival include Greg Brewer of Brewer-Clifton\, who was named winemaker of the Year for 2020 by Wine Enthusiast Magazine\, Jill Russell of Cambria\, Niccolo Maltini with Antinori\, which will be featured in the culinary village\, with a pairing menu to taste. Guest distillers include Freddie Noe of Jim Beam\, Knob Creek and Basil Hayden\, and Lisa Wicker with Willow Jane bourbon. Nathan Aldridge is the Manager of Education for the Institut Du Fromage and known for his passionate &amp\; fun approach to spreading the gospel of cheese.&nbsp\; </span></span><br />\n&nbsp\;<br />\n<span style="font-family:cambria\,serif\;"><span style="font-size:12.0pt\;">Chateau Minuty Ros&eacute\; will have a St. Tropez lifestyle tent and Jackson Family Wines will be poured in a featured tent as well. </span></span><br />\n&nbsp\;<br />\n<span style="font-family:cambria\,serif\;"><span style="font-size:12.0pt\;">Wines from Italy will be featured in the Savor South Walton Culinary Village where Antinori and Natalia Verga wines will be paired with an Italian tasting menu.</span></span><br />\n<span style="font-family:cambria\,serif\;"><span style="font-size:12.0pt\;">In addition to pouring their wines and spirits\, participating celebrities will lead tasting seminars on both Saturday and Sunday in the Seminar tent and stage.</span></span><br />\n&nbsp\;<br />\n<span style="font-family:cambria\,serif\;"><span style="font-size:12.0pt\;">The festival kicks off Thursday at 5 p.m. &ndash\; 7 p.m. with Winemakers &amp\; Shakers\, held at Wine World in Destin. The VIP Wine Tasting takes place Friday\, 4 p.m. &ndash\; 6 p.m.\, followed by the Friday night Craft Beer &amp\; Spirits Jam\, 6 p.m. &ndash\; 9 p.m. The Grand Tastings are Saturday and Sunday\, 1 p.m. &ndash\; 4 p.m. The VIP Tasting ticket is sold out.</span></span><br />\n&nbsp\;<br />\n<span style="font-family:cambria\,serif\;"><span style="font-size:12.0pt\;">Tickets can be purchased at </span></span><a href="https://sowalwine.com"><span style="font-family:cambria\,serif\;"><span style="font-size:12.0pt\;">www.SoWalWine.com</span></span></a><span style="font-family:cambria\,serif\;"><span style="font-size:12.0pt\;">. </span></span><br />\n&nbsp\;<br />\n<span style="font-family:cambria\,serif\;"><span style="font-size:12.0pt\;">The </span></span><a href="http://www.sowalwine.com/"><span style="text-decoration:none\;text-underline:none\;"><span style="color:windowtext\;"><span style="font-family:cambria\,serif\;"><span style="font-size:12.0pt\;">South Walton Beaches Wine and Food Festival</span></span></span></span></a><span style="font-family:cambria\,serif\;"><span style="font-size:12.0pt\;"> is truly a celebration of wine\, food and music that everyone can feel good about. This event is a major fundraiser for the </span></span><a href="http://www.dcwaf.org"><span style="font-family:cambria\,serif\;"><span style="font-size:12.0pt\;">Destin Charity Wine Auction Foundation</span></span></a><span style="font-family:cambria\,serif\;"><span style="font-size:12.0pt\;"> with proceeds benefiting more than a dozen children&rsquo\;s charities in Northwest Florida. </span></span><br />\n&nbsp\;<br />\n<span style="font-family:cambria\,serif\;"><span style="font-size:12.0pt\;">Presented by </span></span><a href="http://www.grandboulevard.com"><span style="font-family:cambria\,serif\;"><span style="font-size:12.0pt\;">Grand Boulevard at Sandestin</span></span></a><span style="font-family:cambria\,serif\;"><span style="font-size:12.0pt\;"> and Visit South Walton\, the festival offers the ideal backdrop for wine\, charity and fun along the South Walton beaches\, named among the best beaches in the country. </span></span><br />\n<span style="font-family:cambria\,serif\;"><span style="font-size:12.0pt\;">South Walton Beaches Wine &amp\; Food Festival is made possible by the generous support of the following Founding Partners: Visit South Walton Tourist Development Council\, Florida Restaurant &amp\; Lodging Association\, Hilton Sandestin Beach Golf Resort &amp\; Spa\, Wine World of Northwest Florida and Grand Boulevard at Sandestin&reg\;. </span></span><br />\n&nbsp\;<br />\n<strong><span style="font-family:cambria\,serif\;"><span style="font-size:12.0pt\;">About South Walton Beaches Wine &amp\; Food Festival</span></span></strong><br />\n<span style="font-family:cambria\,serif\;"><span style="font-size:12.0pt\;">South Walton Beaches Wine &amp\; Food Festival is an annual charity event held the last weekend in April. The festival features a stunning showcase of some of the best wines in the world. Celebrity wine producers and chefs present fine wine and food pairings from the world&rsquo\;s most famous appellations. The Culinary Village offers a sumptuous array of foods to taste\, wines to pair\, as well as wine and food tasting seminars. The event is a major fundraiser for Destin Charity Wine Auction Foundation\, which benefits children in need in Northwest Florida. For more information and to purchase tickets\, visit </span></span><a href="http://www.sowalwine.com/"><span style="font-family:cambria\,serif\;"><span style="font-size:12.0pt\;">www.SoWalWine.com</span></span></a><span style="font-family:cambria\,serif\;"><span style="font-size:12.0pt\;">.</span></span><br />\n&nbsp\;<br />\n<span style="font-family:cambria\,serif\;"><span style="font-size:12.0pt\;">CONTACT:</span></span><br />\n<span style="font-family:cambria\,serif\;"><span style="font-size:12.0pt\;">For South Walton Beaches Wine &amp\; Food Festival</span></span><br />\n<span style="font-family:cambria\,serif\;"><span style="font-size:12.0pt\;">Stacey Brady\, Director of Marketing and Communications</span></span><br />\n<span style="font-family:cambria\,serif\;"><span style="font-size:12.0pt\;">Grand Boulevard at Sandestin</span></span><br />\n<span style="font-family:cambria\,serif\;"><span style="font-size:12.0pt\;">850.837.3099 ext. 203</span></span><br />\n<a href="file:///G:/USB%20DISK/South%20Walton%20Beaches%20Wine%20&amp\;%20Food%20Festival/2018%20Wine%20Festival/Public%20Relations/stacey@grandboulevard.com"><span style="font-family:cambria\,serif\;"><span style="font-size:12.0pt\;">stacey@grandboulevard.com</span></span></a><br />\n<br />\n&nbsp\;
LOCATION:
UID:e.885.33329
SEQUENCE:3
DTSTAMP:20260423T131011Z
URL:https://business.waltonareachamber.com/events/details/south-walton-beaches-wine-and-food-festival-33329
END:VEVENT

END:VCALENDAR
