BEGIN:VCALENDAR
VERSION:2.0
PRODID:-//ChamberMaster//Event Calendar 2.0//EN
METHOD:PUBLISH
X-PUBLISHED-TTL:P3D
REFRESH-INTERVAL:P3D
CALSCALE:GREGORIAN
BEGIN:VEVENT
DTSTART:20210508T150000Z
DTEND:20210508T230000Z
X-MICROSOFT-CDO-ALLDAYEVENT:FALSE
SUMMARY:South Walton Street Art Festival
DESCRIPTION:The South Walton Street Art Festival is a new CAA Signature Event making its debut in 2021! The festival is planned for Mother's Day weekend\, May 7 - 9\, in Grand Boulevard Town Center and will feature visual artists and students creating works of art using only pastel chalk and their imagination.\n\nThe socially distanced event joins the Art Month South Walton line-up and will also feature live music from regional singer-songwriters and lawn games in Grand Park throughout the weekend. Event goers will be able to purchase refreshments while strolling the avenues as they watch the works come to life. The festival is free and open to the public!
X-ALT-DESC;FMTTYPE=text/html:<p><span style="font-size:14px\;"><span style="font-family:arial\;">The South Walton Street Art Festival is a new CAA Signature Event making its debut in 2021! The festival is planned for Mother&#39\;s Day weekend\, May 7 - 9\, in Grand Boulevard Town Center and will feature visual artists and students creating works of art using only pastel chalk and their imagination.</span></span></p>\n\n<p><span style="font-size:14px\;"><span style="font-family:arial\;">The socially distanced event joins the Art Month South Walton line-up and will also feature live music from regional singer-songwriters and lawn games in Grand Park throughout the weekend. Event goers will be able to purchase refreshments while strolling the avenues as they watch the works come to life. The festival is free and open to the public!</span></span></p>\n
LOCATION:Grand Boulevard Town Center Miramar Beach\, FL 32550
UID:e.885.31095
SEQUENCE:3
DTSTAMP:20260422T143304Z
URL:https://business.waltonareachamber.com/events/details/south-walton-street-art-festival-05-08-2021-31095
END:VEVENT

END:VCALENDAR
