BEGIN:VCALENDAR
VERSION:2.0
PRODID:-//ChamberMaster//Event Calendar 2.0//EN
METHOD:PUBLISH
X-PUBLISHED-TTL:P3D
REFRESH-INTERVAL:P3D
CALSCALE:GREGORIAN
BEGIN:VEVENT
DTSTART:20220510T220000Z
DTEND:20220511T000000Z
X-MICROSOFT-CDO-ALLDAYEVENT:FALSE
SUMMARY:Southern Tide Presents Beneath the Waves
DESCRIPTION:A new fantastic collection from ST + Beneath the Waves is here!  Join us in store to shop our new collection\, and hear Jamie Fitzgerald\, Managing Director of Beneath the Waves\, speak about her journey with the ocean conservation group.  Learn how their research impacts your local waters. Local sips provided.
X-ALT-DESC;FMTTYPE=text/html:A new fantastic collection from ST + Beneath the Waves is here!&nbsp\; Join us in store to shop our new collection\, and hear Jamie Fitzgerald\, Managing Director of Beneath the Waves\, speak about her journey with the ocean conservation group.&nbsp\; Learn how their research impacts your local waters. Local sips provided.
LOCATION:
UID:e.885.33870
SEQUENCE:3
DTSTAMP:20260423T142829Z
URL:https://business.waltonareachamber.com/events/details/southern-tide-presents-beneath-the-waves-33870
END:VEVENT

END:VCALENDAR
