BEGIN:VCALENDAR
VERSION:2.0
PRODID:-//ChamberMaster//Event Calendar 2.0//EN
METHOD:PUBLISH
X-PUBLISHED-TTL:P3D
REFRESH-INTERVAL:P3D
CALSCALE:GREGORIAN
BEGIN:VEVENT
DTSTART:20251122T220000Z
DTEND:20251123T000000Z
X-MICROSOFT-CDO-ALLDAYEVENT:FALSE
SUMMARY:Sparkling Wine & Holiday Lights at The Village of Baytowne Wharf
DESCRIPTION:Sparkling Wine & Holiday Lights at The Village of Baytowne Wharf   November 22\n\nSandestin Golf and Beach Resort invites guests to toast the start of the holiday season at the 13th Annual Sparkling Wine & Holiday Lights on Saturday\, November 22\, from 4-6 p.m. in The Village of Baytowne Wharf. This beloved annual celebration features more than 30 premium champagnes and sparkling wines\, perfectly paired with gourmet appetizers from Village restaurants. As you sip and stroll through the beautifully decorated streets\, enjoy the festive ambiance with live holiday music\, charming carolers\, and twinkling lights all around. The evening culminates with a spectacular light show and the season's first tree lighting\, setting the perfect tone for the celebrations to come. Tickets start at $75 and can be purchased HERE.
X-ALT-DESC;FMTTYPE=text/html:<p dir="ltr" style="color: rgb(0\, 0\, 0)\; font-family: arial\, sans-serif\; font-size: 15px\; line-height: 1.2\; text-align: justify\; margin-top: 0pt\; margin-bottom: 0pt\;"><span data-olk-copy-source="MessageBody" style="border: 0px\; font-style: inherit\; font-variant-ligatures: inherit\; font-variant-caps: inherit\; font-variant-numeric: normal\; font-variant-east-asian: normal\; font-variant-alternates: normal\; font-variant-position: inherit\; font-variant-emoji: inherit\; font-weight: 700\; font-stretch: inherit\; font-size: inherit\; line-height: inherit\; font-family: inherit\; font-optical-sizing: inherit\; font-size-adjust: inherit\; font-kerning: inherit\; font-feature-settings: inherit\; font-variation-settings: inherit\; margin: 0px\; padding: 0px\; vertical-align: baseline\; color: inherit\; background-color: transparent !important\; text-decoration-line: underline\;">Sparkling Wine &amp\; Holiday Lights at The Village of Baytowne Wharf &ndash\; November 22</span></p>\n\n<p dir="ltr" style="color: rgb(0\, 0\, 0)\; font-family: arial\, sans-serif\; font-size: 15px\; line-height: 1.2\; text-align: justify\; margin-top: 0pt\; margin-bottom: 0pt\;"><a data-auth="NotApplicable" data-linkindex="11" href="https://www.sandestin.com/" style="border: 0px\; font: inherit\; margin: 0px\; padding: 0px\; vertical-align: baseline\; text-decoration-line: none\;" title="https://www.sandestin.com/"><span style="border: 0px\; font-style: inherit\; font-variant-ligatures: inherit\; font-variant-caps: inherit\; font-variant-numeric: normal\; font-variant-east-asian: normal\; font-variant-alternates: normal\; font-variant-position: inherit\; font-variant-emoji: inherit\; font-weight: inherit\; font-stretch: inherit\; font-size: inherit\; line-height: inherit\; font-family: inherit\; font-optical-sizing: inherit\; font-size-adjust: inherit\; font-kerning: inherit\; font-feature-settings: inherit\; font-variation-settings: inherit\; margin: 0px\; padding: 0px\; vertical-align: baseline\; color: inherit\; background-color: transparent !important\; text-decoration-line: underline\;">Sandestin Golf and Beach Resort</span></a><span style="border: 0px\; font-style: inherit\; font-variant-ligatures: inherit\; font-variant-caps: inherit\; font-variant-numeric: normal\; font-variant-east-asian: normal\; font-variant-alternates: normal\; font-variant-position: inherit\; font-variant-emoji: inherit\; font-weight: inherit\; font-stretch: inherit\; font-size: inherit\; line-height: inherit\; font-family: inherit\; font-optical-sizing: inherit\; font-size-adjust: inherit\; font-kerning: inherit\; font-feature-settings: inherit\; font-variation-settings: inherit\; margin: 0px\; padding: 0px\; vertical-align: baseline\; color: inherit\; background-color: transparent !important\;">&nbsp\;invites guests to toast the start of the holiday season at the&nbsp\;</span><a data-auth="NotApplicable" data-linkindex="12" href="https://www.sandestin.com/things-to-do/events/13th-sparkling-wine-holiday-lights" style="border: 0px\; font: inherit\; margin: 0px\; padding: 0px\; vertical-align: baseline\; text-decoration-line: none\;" title="https://www.sandestin.com/things-to-do/events/13th-sparkling-wine-holiday-lights"><span style="border: 0px\; font-style: italic\; font-variant-ligatures: inherit\; font-variant-caps: inherit\; font-variant-numeric: normal\; font-variant-east-asian: normal\; font-variant-alternates: normal\; font-variant-position: inherit\; font-variant-emoji: inherit\; font-weight: 700\; font-stretch: inherit\; font-size: inherit\; line-height: inherit\; font-family: inherit\; font-optical-sizing: inherit\; font-size-adjust: inherit\; font-kerning: inherit\; font-feature-settings: inherit\; font-variation-settings: inherit\; margin: 0px\; padding: 0px\; vertical-align: baseline\; color: inherit\; background-color: transparent !important\; text-decoration-line: underline\;">13th Annual Sparkling Wine &amp\; Holiday Lights</span></a><span style="border: 0px\; font-style: italic\; font-variant-ligatures: inherit\; font-variant-caps: inherit\; font-variant-numeric: normal\; font-variant-east-asian: normal\; font-variant-alternates: normal\; font-variant-position: inherit\; font-variant-emoji: inherit\; font-weight: 700\; font-stretch: inherit\; font-size: inherit\; line-height: inherit\; font-family: inherit\; font-optical-sizing: inherit\; font-size-adjust: inherit\; font-kerning: inherit\; font-feature-settings: inherit\; font-variation-settings: inherit\; margin: 0px\; padding: 0px\; vertical-align: baseline\; color: inherit\; background-color: transparent !important\;">&nbsp\;</span><span style="border: 0px\; font-style: inherit\; font-variant-ligatures: inherit\; font-variant-caps: inherit\; font-variant-numeric: normal\; font-variant-east-asian: normal\; font-variant-alternates: normal\; font-variant-position: inherit\; font-variant-emoji: inherit\; font-weight: inherit\; font-stretch: inherit\; font-size: inherit\; line-height: inherit\; font-family: inherit\; font-optical-sizing: inherit\; font-size-adjust: inherit\; font-kerning: inherit\; font-feature-settings: inherit\; font-variation-settings: inherit\; margin: 0px\; padding: 0px\; vertical-align: baseline\; color: inherit\; background-color: transparent !important\;">on&nbsp\;</span><span style="border: 0px\; font-style: inherit\; font-variant-ligatures: inherit\; font-variant-caps: inherit\; font-variant-numeric: normal\; font-variant-east-asian: normal\; font-variant-alternates: normal\; font-variant-position: inherit\; font-variant-emoji: inherit\; font-weight: 700\; font-stretch: inherit\; font-size: inherit\; line-height: inherit\; font-family: inherit\; font-optical-sizing: inherit\; font-size-adjust: inherit\; font-kerning: inherit\; font-feature-settings: inherit\; font-variation-settings: inherit\; margin: 0px\; padding: 0px\; vertical-align: baseline\; color: inherit\; background-color: transparent !important\;">Saturday\, November 22\, from 4-6 p.m</span><span style="border: 0px\; font-style: inherit\; font-variant-ligatures: inherit\; font-variant-caps: inherit\; font-variant-numeric: normal\; font-variant-east-asian: normal\; font-variant-alternates: normal\; font-variant-position: inherit\; font-variant-emoji: inherit\; font-weight: inherit\; font-stretch: inherit\; font-size: inherit\; line-height: inherit\; font-family: inherit\; font-optical-sizing: inherit\; font-size-adjust: inherit\; font-kerning: inherit\; font-feature-settings: inherit\; font-variation-settings: inherit\; margin: 0px\; padding: 0px\; vertical-align: baseline\; color: inherit\; background-color: transparent !important\;">. in The Village of Baytowne Wharf. This beloved annual celebration features more than 30 premium champagnes and sparkling wines\, perfectly paired with gourmet appetizers from Village restaurants. As you sip and stroll through the beautifully decorated streets\, enjoy the festive ambiance with live holiday music\, charming carolers\, and twinkling lights all around. The evening culminates with a spectacular light show and the season&rsquo\;s first tree lighting\, setting the perfect tone for the celebrations to come. Tickets start at $75 and can be purchased&nbsp\;</span><a data-auth="NotApplicable" data-linkindex="13" href="https://sandestinwinefestival.com/sparkling-wine/" style="border: 0px\; font: inherit\; margin: 0px\; padding: 0px\; vertical-align: baseline\; text-decoration-line: none\;" title="https://sandestinwinefestival.com/sparkling-wine/"><span style="border: 0px\; font-style: inherit\; font-variant-ligatures: inherit\; font-variant-caps: inherit\; font-variant-numeric: normal\; font-variant-east-asian: normal\; font-variant-alternates: normal\; font-variant-position: inherit\; font-variant-emoji: inherit\; font-weight: inherit\; font-stretch: inherit\; font-size: inherit\; line-height: inherit\; font-family: inherit\; font-optical-sizing: inherit\; font-size-adjust: inherit\; font-kerning: inherit\; font-feature-settings: inherit\; font-variation-settings: inherit\; margin: 0px\; padding: 0px\; vertical-align: baseline\; color: inherit\; background-color: transparent !important\; text-decoration-line: underline\;">HERE</span></a><span style="border: 0px\; font-style: inherit\; font-variant-ligatures: inherit\; font-variant-caps: inherit\; font-variant-numeric: normal\; font-variant-east-asian: normal\; font-variant-alternates: normal\; font-variant-position: inherit\; font-variant-emoji: inherit\; font-weight: inherit\; font-stretch: inherit\; font-size: inherit\; line-height: inherit\; font-family: inherit\; font-optical-sizing: inherit\; font-size-adjust: inherit\; font-kerning: inherit\; font-feature-settings: inherit\; font-variation-settings: inherit\; margin: 0px\; padding: 0px\; vertical-align: baseline\; color: inherit\; background-color: transparent !important\;">.</span></p>\n
LOCATION:The Village of Baytowne Wharf.
UID:e.885.56123
SEQUENCE:3
DTSTAMP:20260422T160220Z
URL:https://business.waltonareachamber.com/events/details/sparkling-wine-holiday-lights-at-the-village-of-baytowne-wharf-56123
END:VEVENT

END:VCALENDAR
