BEGIN:VCALENDAR
VERSION:2.0
PRODID:-//ChamberMaster//Event Calendar 2.0//EN
METHOD:PUBLISH
X-PUBLISHED-TTL:P3D
REFRESH-INTERVAL:P3D
CALSCALE:GREGORIAN
BEGIN:VEVENT
DTSTART;VALUE=DATE:20211029
DTEND;VALUE=DATE:20211030
TRANSP:TRANSPARENT
X-MICROSOFT-CDO-ALLDAYEVENT:TRUE
SUMMARY:Spooktacular Nights Boos & Booze Bingo: Pub Crawl & Concert
DESCRIPTION:Make a donation to Panhandle Animal Welfare Society (PAWS) and receive a Bingo Card featuring Shocking Drink Specials! Complete your Bingo Card for a chance to win Spooktacular Door Prizes.\n\n \n\nBoos & Booze Bingo | 6:30pm\n\nTyler Livingston & The Absolutes | 7:00-9:00pm\n\nSpooktacular Door Prize Drawings | 9:30pm\n\nAdult Costume Contest at Coyote Ugly | 10:00pm
X-ALT-DESC;FMTTYPE=text/html:<span style="font-size:14px\;">Make a donation to Panhandle Animal Welfare Society (PAWS) and receive a Bingo Card featuring Shocking Drink Specials! Complete your Bingo Card for a chance to win Spooktacular Door Prizes.<br />\n&nbsp\;<br />\nBoos &amp\; Booze Bingo | 6:30pm<br />\nTyler Livingston &amp\; The Absolutes | 7:00-9:00pm<br />\nSpooktacular Door Prize Drawings | 9:30pm<br />\nAdult Costume Contest at Coyote Ugly | 10:00pm</span>
LOCATION:Boos & Booze Bingo | 6:30pm Tyler Livingston & The Absolutes | 7:00-9:00pm Spooktacular Door Prize Drawings | 9:30pm Adult Costume Contest at Coyote Ugly | 10:00pm
UID:e.885.32440
SEQUENCE:3
DTSTAMP:20260423T025719Z
URL:https://business.waltonareachamber.com/events/details/spooktacular-nights-boos-booze-bingo-pub-crawl-concert-32440
END:VEVENT

END:VCALENDAR
