BEGIN:VCALENDAR
VERSION:2.0
PRODID:-//ChamberMaster//Event Calendar 2.0//EN
METHOD:PUBLISH
X-PUBLISHED-TTL:P3D
REFRESH-INTERVAL:P3D
CALSCALE:GREGORIAN
BEGIN:VEVENT
DTSTART;VALUE=DATE:20211030
DTEND;VALUE=DATE:20211031
TRANSP:TRANSPARENT
X-MICROSOFT-CDO-ALLDAYEVENT:TRUE
SUMMARY:Spooktacular Nights Spook Street: Trick-or-Treating
DESCRIPTION:Join us for Trick-or-Treating along the Destin Harbor and a Family Costume Contest on the Main Stage at 6:00pm! **Registration starts at 5:00pm for Costume Contest.\n\n \n\nTrick-or-Treating & Family Costume Contest | 6:00pm\n\nDJ Doc Roc | 7:00pm\n\nFireworks & Fire Spinning | 9:00pm
X-ALT-DESC;FMTTYPE=text/html:<span style="font-family:arial\;">Join us for Trick-or-Treating along the Destin Harbor and a Family Costume Contest on the Main Stage at 6:00pm!&nbsp\;<strong>**Registration starts at 5:00pm for Costume Contest.</strong><br />\n&nbsp\;<br />\nTrick-or-Treating &amp\; Family Costume Contest | 6:00pm<br />\nDJ Doc Roc | 7:00pm<br />\nFireworks &amp\; Fire Spinning | 9:00pm</span>
LOCATION:Trick-or-Treating & Family Costume Contest | 6:00pm DJ Doc Roc | 7:00pm Fireworks & Fire Spinning | 9:00pm
UID:e.885.32441
SEQUENCE:3
DTSTAMP:20260423T044017Z
URL:https://business.waltonareachamber.com/events/details/spooktacular-nights-spook-street-trick-or-treating-32441
END:VEVENT

END:VCALENDAR
