BEGIN:VCALENDAR
VERSION:2.0
PRODID:-//ChamberMaster//Event Calendar 2.0//EN
METHOD:PUBLISH
X-PUBLISHED-TTL:P3D
REFRESH-INTERVAL:P3D
CALSCALE:GREGORIAN
BEGIN:VEVENT
DTSTART;VALUE=DATE:20211028
DTEND;VALUE=DATE:20211029
TRANSP:TRANSPARENT
X-MICROSOFT-CDO-ALLDAYEVENT:TRUE
SUMMARY:Spooktacular Nights “This is Halloween” Performance: Sinfonia
DESCRIPTION:Sinfonia Youth Orchestra presents\, "This is Halloween" at 6:00 pm on the Main Stage at HarborWalk Village!
X-ALT-DESC;FMTTYPE=text/html:<span style="font-family:arial\;"><span style="font-size:14px\;"><span style="caret-color: rgb(0\, 0\, 0)\; color: rgb(0\, 0\, 0)\;">Sinfonia Youth Orchestra presents\, &ldquo\;This is Halloween&rdquo\; at 6:00 pm on the Main Stage at HarborWalk Village!</span></span></span>
LOCATION:HarborWalk Village
UID:e.885.32439
SEQUENCE:3
DTSTAMP:20260423T043940Z
URL:https://business.waltonareachamber.com/events/details/spooktacular-nights-this-is-halloween-performance-sinfonia-10-28-2021-32439
END:VEVENT

END:VCALENDAR
