BEGIN:VCALENDAR
VERSION:2.0
PRODID:-//ChamberMaster//Event Calendar 2.0//EN
METHOD:PUBLISH
X-PUBLISHED-TTL:P3D
REFRESH-INTERVAL:P3D
CALSCALE:GREGORIAN
BEGIN:VEVENT
DTSTART:20220405T190000Z
DTEND:20220405T210000Z
X-MICROSOFT-CDO-ALLDAYEVENT:FALSE
SUMMARY:Spring Designer Tea at J.Leon Gallery and Studio
DESCRIPTION:Spend the afternoon sipping tea and enjoying unique tablescapes featuring local designers. Tea and accompaniments crafted by The Board Chef. Tickets are $45 per person and seating is limited. Call the gallery to reserve your seat at the table! 850-842-3051
X-ALT-DESC;FMTTYPE=text/html:Spend the afternoon sipping tea and enjoying unique tablescapes featuring local designers. Tea and accompaniments crafted by The Board Chef. Tickets are $45 per person and seating is limited. Call the gallery to reserve your seat at the table! 850-842-3051
LOCATION:J.Leon Gallery and Studio
UID:e.885.33617
SEQUENCE:3
DTSTAMP:20260423T124514Z
URL:https://business.waltonareachamber.com/events/details/spring-designer-tea-at-j-leon-gallery-and-studio-33617
END:VEVENT

END:VCALENDAR
