BEGIN:VCALENDAR
VERSION:2.0
PRODID:-//ChamberMaster//Event Calendar 2.0//EN
METHOD:PUBLISH
X-PUBLISHED-TTL:P3D
REFRESH-INTERVAL:P3D
CALSCALE:GREGORIAN
BEGIN:VEVENT
DTSTART:20250317T230000Z
DTEND:20250318T020000Z
X-MICROSOFT-CDO-ALLDAYEVENT:FALSE
SUMMARY:St. Paddy's Day Delight
DESCRIPTION:We're painting The Village GREEN from the lagoon to the lights! Celebrate the Luck of the Irish at The Village of Baytowne Wharf. Featuring Carpenter Academy of Irish Dance and Live Music from Shenanigans!
X-ALT-DESC;FMTTYPE=text/html:<span style="color:#40454A"><span style="font-family:arial\,sans-serif"><span style="font-size:11.0pt">We&#39\;re painting The Village GREEN from the lagoon to the lights! Celebrate the Luck of the Irish at The Village of Baytowne Wharf. Featuring Carpenter Academy of Irish Dance and Live Music from Shenanigans!</span></span></span>
LOCATION:The Village of Baytowne Wharf 9100 Baytowne Wharf Miramar Beach\, FL 32550
UID:e.885.45276
SEQUENCE:3
DTSTAMP:20260423T044905Z
URL:https://business.waltonareachamber.com/events/details/st-paddy-s-day-delight-03-17-2025-45276
END:VEVENT

END:VCALENDAR
