BEGIN:VCALENDAR
VERSION:2.0
PRODID:-//ChamberMaster//Event Calendar 2.0//EN
METHOD:PUBLISH
X-PUBLISHED-TTL:P3D
REFRESH-INTERVAL:P3D
CALSCALE:GREGORIAN
BEGIN:VEVENT
DTSTART:20210313T200000Z
DTEND:20210313T220000Z
X-MICROSOFT-CDO-ALLDAYEVENT:FALSE
SUMMARY:St. Paddy’s Family Party
DESCRIPTION:The luck of the Irish is coming to HarborWalk Village! Enjoy an Irish Dance performance\, kids activities\, leprechaun treasure hunt\, and a pet costume contest. \n\nLeprechaun Treasure Hunt throughout the village from 2:00 pm to 4:00 pm\n\nPerformance at 2:30 pm by Carpenter Academy of Irish Dance\n\nPup of the Irish Pet Costume Contest at 3:30 pm on the main stage (Registration at 2:00 pm. Cost is a $5 donation or a bag of dry dog food to benefit the Panhandle Animal Welfare Society)
X-ALT-DESC;FMTTYPE=text/html:<span style="font-size:14px\;"><span style="font-family:arial\;"><span style="background:white\;"><span style="color:black\;">The luck of the Irish is coming to HarborWalk Village! Enjoy an Irish Dance performance\, kids activities\, leprechaun treasure hunt\, and a pet costume contest.&nbsp\;</span></span><br />\n<span style="color:black\;">Leprechaun Treasure Hunt throughout the village from 2:00 pm to 4:00 pm</span><br />\n<span style="color:black\;">Performance at 2:30 pm by Carpenter Academy of Irish Dance</span><br />\n<span style="color:black\;">Pup of the Irish Pet Costume Contest at 3:30 pm on the main stage (Registration at 2:00 pm. Cost is a $5 donation or a bag of dry dog food to benefit the Panhandle Animal Welfare Society)</span></span></span>
LOCATION:HarborWalk Village Destin\, FL
UID:e.885.29139
SEQUENCE:3
DTSTAMP:20260422T110946Z
URL:https://business.waltonareachamber.com/events/details/st-paddy-s-family-party-29139
END:VEVENT

END:VCALENDAR
