BEGIN:VCALENDAR
VERSION:2.0
PRODID:-//ChamberMaster//Event Calendar 2.0//EN
METHOD:PUBLISH
X-PUBLISHED-TTL:P3D
REFRESH-INTERVAL:P3D
CALSCALE:GREGORIAN
BEGIN:VEVENT
DTSTART:20240711T210000Z
DTEND:20240711T230000Z
X-MICROSOFT-CDO-ALLDAYEVENT:FALSE
SUMMARY:"Stars\, Stripes & Skincare" Skin Rejuvenation Event at Aqua Medical Spa
DESCRIPTION:Join us at Aqua Medical Spa in Watersound Origins for our "Stars\, Stripes & Skincare" skin rejuvenation event! Enjoy savings on cosmetic injectables\, body contouring treatments\, medical-grade skincare products\, and more. Plus\, watch live treatment demos\, meet our providers\, enjoy refreshments\, and enter to win one of many great prizes. Space is limited to 100 attendees\, so reserve your FREE ticket today while space is available: aquamedicalspawatersound.eventbrite.com
X-ALT-DESC;FMTTYPE=text/html:Join us at Aqua Medical Spa in Watersound Origins for our &quot\;Stars\, Stripes &amp\; Skincare&quot\; skin rejuvenation event! Enjoy savings on cosmetic injectables\, body contouring treatments\, medical-grade skincare products\, and more. Plus\, watch live treatment demos\, meet our providers\, enjoy refreshments\, and enter to win one of many great prizes. Space is limited to 100 attendees\, so reserve your FREE ticket today while space is available: aquamedicalspawatersound.eventbrite.com
LOCATION:75 Origins Main Street Watersound\, FL
UID:e.885.41588
SEQUENCE:3
DTSTAMP:20260425T170824Z
URL:https://business.waltonareachamber.com/events/details/stars-stripes-skincare-skin-rejuvenation-event-at-aqua-medical-spa-41588
END:VEVENT

END:VCALENDAR
