BEGIN:VCALENDAR
VERSION:2.0
PRODID:-//ChamberMaster//Event Calendar 2.0//EN
METHOD:PUBLISH
X-PUBLISHED-TTL:P3D
REFRESH-INTERVAL:P3D
CALSCALE:GREGORIAN
BEGIN:VEVENT
DTSTART:20251216T210000Z
DTEND:20251216T230000Z
X-MICROSOFT-CDO-ALLDAYEVENT:FALSE
SUMMARY:Staybridge Suites Miramar-Destin Grand Opening & Ribbon Cutting
DESCRIPTION:Staybridge Suites Miramar-Destin Grand Opening & Ribbon Cutting\n\nWe invite you to celebrate the Grand Opening of Staybridge Suites Miramar-Destin at their beautiful new location in Miramar Beach. Enjoy a warm welcome as you explore the property and connect with fellow community members.\n\nGuests will enjoy showcased bites along with a signature cocktail from the bar\, plus beer and wine.\n\nEvent Details:\n\n  December 16\, 2025\n\n  Staybridge Suites Miramar-Destin\n\n50 Ponce De Leon Street\, Miramar Beach\, FL\n\n  Grand Opening Celebration: 3:00 p.m.\n\n   Ribbon Cutting: 3:40 p.m.\n\nWe look forward to celebrating this exciting new addition to our community!
X-ALT-DESC;FMTTYPE=text/html:<h2 data-end="178" data-start="108"><strong data-end="178" data-start="111">Staybridge Suites Miramar-Destin Grand Opening &amp\; Ribbon Cutting</strong></h2>\n\n<p data-end="406" data-start="180">We invite you to celebrate the <strong data-end="264" data-start="211">Grand Opening of Staybridge Suites Miramar-Destin</strong> at their beautiful new location in Miramar Beach. Enjoy a warm welcome as you explore the property and connect with fellow community members.</p>\n\n<p data-end="519" data-start="408">Guests will enjoy <strong data-end="445" data-start="426">showcased bites</strong> along with a <strong data-end="494" data-start="459">signature cocktail from the bar</strong>\, plus <strong data-end="518" data-start="501">beer and wine</strong>.</p>\n\n<p data-end="628" data-start="521"><strong data-end="539" data-start="521">Event Details:</strong><br />\n&#128198\; December 16\, 2025<br data-end="542" data-start="539" />\n&#128205\; <strong data-end="581" data-start="545">Staybridge Suites Miramar-Destin</strong><br data-end="584" data-start="581" />\n50 Ponce De Leon Street\, Miramar Beach\, FL<br />\n&#9200\; <strong data-end="662" data-start="632">Grand Opening Celebration:</strong> 3:00 p.m.<br data-end="675" data-start="672" />\n&#9986\;&#65039\; <strong data-end="697" data-start="678">Ribbon Cutting:</strong> 3:40 p.m.</p>\n\n<p data-end="784" data-is-last-node="" data-is-only-node="" data-start="709">We look forward to celebrating this exciting new addition to our community!</p>\n
LOCATION:Staybridge Suites Miramar-Destin 50 Ponce De Leon Street\, Miramar Beach\, FL
UID:e.885.56114
SEQUENCE:3
DTSTAMP:20260422T142257Z
URL:https://business.waltonareachamber.com/events/details/staybridge-suites-miramar-destin-grand-opening-ribbon-cutting-56114
END:VEVENT

END:VCALENDAR
