BEGIN:VCALENDAR
VERSION:2.0
PRODID:-//ChamberMaster//Event Calendar 2.0//EN
METHOD:PUBLISH
X-PUBLISHED-TTL:P3D
REFRESH-INTERVAL:P3D
CALSCALE:GREGORIAN
BEGIN:VEVENT
DTSTART:20230311T220000Z
DTEND:20230312T020000Z
X-MICROSOFT-CDO-ALLDAYEVENT:FALSE
SUMMARY:Stock & Trade Design Co. Ribbon Cutting
DESCRIPTION:Come join us for the Grand Opening and Ribbon Cutting at Stock and Trade Design Co.
X-ALT-DESC;FMTTYPE=text/html:Come join us for the Grand Opening and Ribbon Cutting at Stock and Trade Design Co.
LOCATION:2668 HWY 98 Santa Rosa Beach\, FL 32459
UID:e.885.34346
SEQUENCE:3
DTSTAMP:20260424T052149Z
URL:https://business.waltonareachamber.com/events/details/stock-trade-design-co-ribbon-cutting-34346
END:VEVENT

END:VCALENDAR
