BEGIN:VCALENDAR
VERSION:2.0
PRODID:-//ChamberMaster//Event Calendar 2.0//EN
METHOD:PUBLISH
X-PUBLISHED-TTL:P3D
REFRESH-INTERVAL:P3D
CALSCALE:GREGORIAN
BEGIN:VEVENT
DTSTART:20210326T220000Z
DTEND:20210327T000000Z
X-MICROSOFT-CDO-ALLDAYEVENT:FALSE
SUMMARY:Sunset Celebration at HarborWalk Village
DESCRIPTION:As the sun sets\, stroll along the Harbor and enjoy local artists\, live music and family-friendly activities. Every Friday at 5:00 pm during Spring Break.\n\nLink: https://facebook.com/events/226310675809728/
X-ALT-DESC;FMTTYPE=text/html:<p class="x_MsoNormal" style="margin: 0in\; font-size: 11pt\; font-family: Calibri\, sans-serif\; color: rgb(32\, 31\, 30)\;"><span style="font-size:14px\;"><span style="font-family:arial\;"><span style="margin: 0px\; padding: 0px\; border: 0px\; font-style: inherit\; font-variant: inherit\; font-weight: inherit\; font-stretch: inherit\; line-height: inherit\; vertical-align: baseline\; color: rgb(51\, 51\, 51)\; background-image: initial\; background-position: initial\; background-size: initial\; background-repeat: initial\; background-attachment: initial\; background-origin: initial\; background-clip: initial\;">As the sun sets\, stroll along the Harbor and enjoy local artists\, live music and family-friendly activities. Every Friday at 5:00 pm during Spring Break.</span></span></span></p>\n\n<p class="x_MsoNormal" style="margin: 0in\; font-size: 11pt\; font-family: Calibri\, sans-serif\; color: rgb(32\, 31\, 30)\;"><span style="font-size:14px\;"><span style="font-family:arial\;">Link:&nbsp\;<a data-auth="NotApplicable" href="https://facebook.com/events/226310675809728/" rel="noopener noreferrer" style="margin: 0px\; padding: 0px\; border: 0px\; font: inherit\; vertical-align: baseline\; color: rgb(5\, 99\, 193)\;" target="_blank">https://facebook.com/events/226310675809728/</a></span></span></p>\n
LOCATION:HarborWalk Village Destin\, FL
UID:e.885.29163
SEQUENCE:3
DTSTAMP:20260422T111120Z
URL:https://business.waltonareachamber.com/events/details/sunset-celebration-at-harborwalk-village-03-26-2021-29163
END:VEVENT

END:VCALENDAR
