BEGIN:VCALENDAR
VERSION:2.0
PRODID:-//ChamberMaster//Event Calendar 2.0//EN
METHOD:PUBLISH
X-PUBLISHED-TTL:P3D
REFRESH-INTERVAL:P3D
CALSCALE:GREGORIAN
BEGIN:VEVENT
DTSTART:20230305T180000Z
DTEND:20230305T200000Z
X-MICROSOFT-CDO-ALLDAYEVENT:FALSE
SUMMARY:Tea Fore Her
DESCRIPTION:Gather your friends and join us for Tea Fore Her on Sunday\, March 5th at The Hilton Sandestin Beach Golf Resort and Spa. Enjoy lunch and tea with great company while raising funds for breast cancer patients along the Emerald Coast. \n\nDuring the event there will be a photo booth\, silent auction\, seated lunch and more. Big hats are encouraged for a chance to win "Best Hat" prize.  \n\nSponsorship opportunities are available. Email amy@foreher.org.\n\nor visit https://www.foreher.org/tea-fore-her\n\nTickets are now on sale at https://TeaForeHer2023.eventbrite.com
X-ALT-DESC;FMTTYPE=text/html:<span style="color:#050505\;"><span style="font-family:arial\,sans-serif\;"><span style="font-size:11.5pt\;">Gather your friends and join us for Tea Fore Her on Sunday\, March 5th at The Hilton Sandestin Beach Golf Resort and Spa. Enjoy lunch and tea with great company while raising funds for breast cancer patients along the Emerald Coast.&nbsp\;<br />\nDuring the event there will be a photo booth\, silent auction\, seated lunch and more. Big hats are encouraged for a chance to win &quot\;Best Hat&quot\; prize.&nbsp\;&nbsp\;<br />\nSponsorship opportunities are available. Email <a href="mailto:amy@foreher.org">amy@foreher.org</a>.<br />\nor visit&nbsp\;<a href="https://www.foreher.org/tea-fore-her?fbclid=IwAR28Kx57mUMA1kSDzEQJwrd4_CWTI7auWMUoWFQlvOjfETdYG8jKF2JPlm0" role="link" style="text-align:inherit\;outline:none\;box-sizing:border-box\;" target="_blank"><span style="border:1pt none windowtext\;padding:0in\;text-decoration-line:none\;"><span style="font-family:inherit\,serif\;">https://www.foreher.org/tea-fore-her</span></span></a></span></span></span><br />\n<span style="color:#050505\;"><span style="font-family:arial\,sans-serif\;"><span style="font-size:11.5pt\;">Tickets are now on sale at&nbsp\;<a href="https://teaforeher2023.eventbrite.com/?fbclid=IwAR2XFgHxp8jmdV5DpX7_YForkgCJ-WHYSnKKzYjiaBNmVNREf4MmJ4wwQU8" role="link" style="text-align:inherit\;outline:none\;box-sizing:border-box\;" target="_blank"><span style="border:1pt none windowtext\;padding:0in\;text-decoration-line:none\;"><span style="font-family:inherit\,serif\;">https://TeaForeHer2023.eventbrite.com</span></span></a></span></span></span><br />\n&nbsp\;
LOCATION:Hilton Sandestin Beach Golf Resort & Spa
UID:e.885.34348
SEQUENCE:3
DTSTAMP:20260424T051724Z
URL:https://business.waltonareachamber.com/events/details/tea-fore-her-34348
END:VEVENT

END:VCALENDAR
