BEGIN:VCALENDAR
VERSION:2.0
PRODID:-//ChamberMaster//Event Calendar 2.0//EN
METHOD:PUBLISH
X-PUBLISHED-TTL:P3D
REFRESH-INTERVAL:P3D
CALSCALE:GREGORIAN
BEGIN:VEVENT
DTSTART:20211125T160000Z
DTEND:20211125T210000Z
X-MICROSOFT-CDO-ALLDAYEVENT:FALSE
SUMMARY:Thanksgiving Buffet at Farm & Fire
DESCRIPTION:Reservations by phone only beginning Nov 3 at 2pm cst 850.622.3871\n\n\n\nChef Jim Shirley Thanksgiving Offerings\n \n\nDine at Farm & Fire on Thanksgiving Day. Seatings are available from 10:00 AM to 3:00 PM - (closed for dinner). Reservations will open November 3 at 2:00PM by phone only. Call 850-622-3871. OR guests can order to go via farmandfirepizza.com. This prepackaged Thanksgiving meal for four will be picked up cold (with easy warmup instructions) on Wednesday 11/24 from 11:00 a.m. to 4:00 p.m. downstairs at North Beach Social.\n\n\n\nAbout Farm & Fire Southern Pizzeria:\n\nFarm & Fire restaurant in Santa Rosa Beach\, Florida blends elements from The Fire (Coal Ovens)\, Market (Salads\, Charcuterie\, Desserts)\, and Speakeasy (Bar) into a seamless dining experience with a family style approach accommodating all party sizes. This Chef Jim Shirley establishment is located at the foot of the 331 bridge in South Walton overlooking the Choctawhatchee Bay. More info at farmandfirepizza.com.
X-ALT-DESC;FMTTYPE=text/html:<span style="font-size:14px\;"><span style="font-family:arial\;">Reservations by phone only beginning Nov 3 at 2pm cst&nbsp\;850.622.3871<br />\n<br />\n<strong>Chef Jim Shirley Thanksgiving Offerings</strong></span></span>\n<div style="color:rgb(0\, 0\, 0)\;font-family:Calibri\;font-size:14px\;"><span style="font-size:14px\;"><span style="font-family:arial\;">&nbsp\;</span></span></div>\n\n<div style="color:rgb(0\, 0\, 0)\;font-family:Calibri\;font-size:14px\;"><span style="font-size:14px\;"><span style="font-family:arial\;">Dine at&nbsp\;<strong>Farm &amp\; Fire</strong>&nbsp\;on Thanksgiving Day. Seatings are available from 10:00 AM to 3:00 PM - (closed for dinner). Reservations will open November 3 at 2:00PM by phone only. Call 850-622-3871. OR guests can order to go via&nbsp\;<a href="http://farmandfirepizza.com/" style="color:blue\;" target="_blank" title="http://farmandfirepizza.com/">farmandfirepizza.com</a>. This prepackaged Thanksgiving meal for four will be picked up cold (with easy warmup instructions) on Wednesday 11/24 from 11:00 a.m. to 4:00 p.m. downstairs at North Beach Social.<br />\n<br />\n<b style="caret-color: rgb(0\, 0\, 0)\; color: rgb(0\, 0\, 0)\; font-family: Calibri\, sans-serif\; font-size: 14.666666984558105px\;">About Farm &amp\; Fire Southern Pizzeria:</b><br />\n<span style="caret-color: rgb(0\, 0\, 0)\; color: rgb(0\, 0\, 0)\;">Farm &amp\; Fire restaurant in Santa Rosa Beach\, Florida blends elements from The Fire (Coal Ovens)\, Market (Salads\, Charcuterie\, Desserts)\, and Speakeasy (Bar) into a seamless dining experience with a family style approach accommodating all party sizes. This Chef Jim Shirley establishment is located at the foot of the 331 bridge in South Walton overlooking the Choctawhatchee Bay. More info at&nbsp\;</span><a href="http://farmandfirepizza.com/" style="color: blue\; font-family: Calibri\, sans-serif\; font-size: 14.666666984558105px\;" target="_blank" title="http://farmandfirepizza.com/">farmandfirepizza.com</a><span style="caret-color: rgb(0\, 0\, 0)\; color: rgb(0\, 0\, 0)\;">.</span></span></span></div>\n
LOCATION:Farm & Fire 24200 HWY. 331 S. AT THE FOOT OF THE BRIDGE SANTA ROSA BEACH
UID:e.885.32620
SEQUENCE:3
DTSTAMP:20260423T062256Z
URL:https://business.waltonareachamber.com/events/details/thanksgiving-buffet-at-farm-fire-32620
END:VEVENT

END:VCALENDAR
