BEGIN:VCALENDAR
VERSION:2.0
PRODID:-//ChamberMaster//Event Calendar 2.0//EN
METHOD:PUBLISH
X-PUBLISHED-TTL:P3D
REFRESH-INTERVAL:P3D
CALSCALE:GREGORIAN
BEGIN:VEVENT
DTSTART:20211125T173000Z
DTEND:20211125T193000Z
X-MICROSOFT-CDO-ALLDAYEVENT:FALSE
SUMMARY:Thanksgiving Feast at The Island Fish House
DESCRIPTION:The Island is celebrating the holiday season with a Thanksgiving Feast at their signature restaurant\, Fish House. The menu features lobster bisque\, two salad options\, a delicious charcuterie display\, along with multiple station options for the main course\, including a seafood station with shrimp\, mussels\, clams and oysters. The indulgent pasta station will feature options from fettuccine to a penne carbonara and a carving station that will feature a traditional turkey\, ham\, and more. For those who enjoy Thanksgiving dessert\, there will also be pumpkin pie and assorted cake options. This decadent Thanksgiving menu was crafted by The Island's new Executive Chef\, Richard Assaf\, who recently joined The Island team in summer 2021. Chef Assaf has more than 19 years of experience\, studying French culinary at Sagesse University Lausanne and culinary courses with Michelin Star Chefs\, Joel Robuchon and Alain Ducasse in France. Chef Assaf is currently working on cultivating new menus for Fish House that will be released in 2022. \n \n\nTwo seating times are available for the Thanksgiving Feast at Fish House - 11:30AM and 1:30PM. Adults are $65 per person\, children under 11 are $22 and children ages four and under eat free. The Thanksgiving Feast at Fish House is open to locals.  Patrons can park on premises and access Fish House by entering through the front entrance of the hotel at the lobby. Reservations are strongly encouraged and can be made by calling 850-243-9163. \n\n \n\nAbout The Island Resort: \nRenowned for its location on 600-ft. of private sugar sand beach on the Gulf of Mexico\, The Island is a 10-acre\, 333-room resort with two pools and the iconic Grotto swim-up bar set amid lush tropical landscaping\, five dining options\, The Island Green beachfront wedding venue\, new glass-walled Tavern on the Island\, and 24\,000-sq. ft. of renovated event space. For reservations\, please visit www.theislandfl.com\, call toll-free 800-874-8962 or contact a travel agent. Join us at The Island on Facebook and Instagram.
X-ALT-DESC;FMTTYPE=text/html:<p dir="ltr" style="caret-color: rgb(0\, 0\, 0)\; color: rgb(0\, 0\, 0)\; font-family: arial\, sans-serif\; line-height: 1.2\; margin-top: 0pt\; margin-bottom: 0pt\;"><span style="font-variant-numeric: normal\; font-variant-east-asian: normal\; vertical-align: baseline\; white-space: pre-wrap\;">The Island is celebrating the holiday season with a Thanksgiving Feast at their signature restaurant\, Fish House. The menu features lobster bisque\, two salad options\, a delicious charcuterie display\, along with multiple station options for the main course\, including a seafood station with shrimp\, mussels\, clams and oysters. The indulgent pasta station will feature options from fettuccine to a penne carbonara and a carving station that will feature a traditional turkey\, ham\, and more. For those who enjoy Thanksgiving dessert\, there will also be pumpkin pie and assorted cake options. This decadent Thanksgiving menu was crafted by The Island&rsquo\;s new Executive Chef\, </span><span style="font-variant-numeric: normal\; font-variant-east-asian: normal\; vertical-align: baseline\; white-space: pre-wrap\;">Richard Assaf\,</span><span style="font-variant-numeric: normal\; font-variant-east-asian: normal\; vertical-align: baseline\; white-space: pre-wrap\;"> who recently joined The Island team in summer 2021. </span><span style="font-variant-numeric: normal\; font-variant-east-asian: normal\; vertical-align: baseline\; white-space: pre-wrap\;">Chef Assaf has more than 19 years of experience\, studying French culinary at Sagesse University Lausanne and culinary courses with Michelin Star Chefs\, Joel Robuchon and Alain Ducasse in France. Chef Assaf is currently working on cultivating new menus for Fish House that will be released in 2022.&nbsp\;</span></p>\n&nbsp\;\n\n<p dir="ltr" style="caret-color: rgb(0\, 0\, 0)\; color: rgb(0\, 0\, 0)\; font-family: arial\, sans-serif\; line-height: 1.2\; margin-top: 0pt\; margin-bottom: 0pt\;"><span style="font-variant-numeric: normal\; font-variant-east-asian: normal\; vertical-align: baseline\; white-space: pre-wrap\;">Two seating times are available for the Thanksgiving Feast at Fish House - 11:30AM and 1:30PM. Adults are $65 per person\, children under 11 are $22 and children ages four and under eat free. The Thanksgiving Feast at Fish House is open to locals. </span><span style="font-variant-numeric: normal\; font-variant-east-asian: normal\; vertical-align: baseline\; white-space: pre-wrap\;">&nbsp\;Patrons can park on premises and access Fish House by entering through the front entrance of the hotel at the lobby. </span><span style="font-variant-numeric: normal\; font-variant-east-asian: normal\; vertical-align: baseline\; white-space: pre-wrap\;">Reservations are strongly encouraged and can be made by calling </span><span style="font-variant-numeric: normal\; font-variant-east-asian: normal\; vertical-align: baseline\; white-space: pre-wrap\;">850-243-9163</span><span style="font-variant-numeric: normal\; font-variant-east-asian: normal\; vertical-align: baseline\; white-space: pre-wrap\;">.&nbsp\;</span></p>\n\n<p dir="ltr" style="caret-color: rgb(0\, 0\, 0)\; color: rgb(0\, 0\, 0)\; font-family: arial\, sans-serif\; line-height: 1.2\; text-align: center\; margin-top: 0pt\; margin-bottom: 0pt\; padding: 6pt 0pt 0pt\;">&nbsp\;</p>\n\n<p dir="ltr" style="caret-color: rgb(0\, 0\, 0)\; color: rgb(0\, 0\, 0)\; font-family: arial\, sans-serif\; line-height: 1.2\; margin-top: 0pt\; margin-bottom: 0pt\;"><span style="font-weight: 700\; font-variant-numeric: normal\; font-variant-east-asian: normal\; vertical-align: baseline\; white-space: pre-wrap\;">About The Island Resort:&nbsp\;</span></p>\n<span style="caret-color: rgb(0\, 0\, 0)\; color: rgb(0\, 0\, 0)\; font-family: arial\, sans-serif\; font-variant-numeric: normal\; font-variant-east-asian: normal\; vertical-align: baseline\; white-space: pre-wrap\;">Renowned for its location on 600-ft. of private sugar sand beach on the Gulf of Mexico\, The Island is a 10-acre\, 333-room resort with two pools and the iconic Grotto swim-up bar set amid lush tropical landscaping\, five dining options\, The Island Green beachfront wedding venue\, new glass-walled Tavern on the Island\, and 24\,000-sq. ft. of renovated event space. For reservations\, please visit </span><a href="https://besociallee-dot-yamm-track.appspot.com/Redirect?ukey=16SxOulGtbWEVLy4rEUjCiQLuRsX2XakS-pH0unh1m_o-2067463518&amp\;key=YAMMID-27109484&amp\;link=http://www.theislandfl.com/" style="font-family: arial\, sans-serif\; text-decoration-line: none\;" target="_blank"><span style="font-variant-numeric: normal\; font-variant-east-asian: normal\; text-decoration-line: underline\; vertical-align: baseline\; white-space: pre-wrap\;">www.theislandfl.com</span></a><span style="caret-color: rgb(0\, 0\, 0)\; color: rgb(0\, 0\, 0)\; font-family: arial\, sans-serif\; font-variant-numeric: normal\; font-variant-east-asian: normal\; vertical-align: baseline\; white-space: pre-wrap\;">\, call toll-free 800-874-8962 or contact a travel agent. Join us at The Island on </span><a href="https://besociallee-dot-yamm-track.appspot.com/Redirect?ukey=16SxOulGtbWEVLy4rEUjCiQLuRsX2XakS-pH0unh1m_o-2067463518&amp\;key=YAMMID-27109484&amp\;link=https://www.facebook.com/TheIslandFL/" style="font-family: arial\, sans-serif\; text-decoration-line: none\;" target="_blank"><span style="font-variant-numeric: normal\; font-variant-east-asian: normal\; text-decoration-line: underline\; vertical-align: baseline\; white-space: pre-wrap\;">Facebook</span></a><span style="caret-color: rgb(0\, 0\, 0)\; color: rgb(0\, 0\, 0)\; font-family: arial\, sans-serif\; font-variant-numeric: normal\; font-variant-east-asian: normal\; vertical-align: baseline\; white-space: pre-wrap\;"> and </span><a href="https://besociallee-dot-yamm-track.appspot.com/Redirect?ukey=16SxOulGtbWEVLy4rEUjCiQLuRsX2XakS-pH0unh1m_o-2067463518&amp\;key=YAMMID-27109484&amp\;link=https://www.instagram.com/theislandfl/" style="font-family: arial\, sans-serif\; text-decoration-line: none\;" target="_blank"><span style="font-variant-numeric: normal\; font-variant-east-asian: normal\; text-decoration-line: underline\; vertical-align: baseline\; white-space: pre-wrap\;">Instagram</span></a><span style="caret-color: rgb(0\, 0\, 0)\; color: rgb(0\, 0\, 0)\; font-family: arial\, sans-serif\; font-variant-numeric: normal\; font-variant-east-asian: normal\; vertical-align: baseline\; white-space: pre-wrap\;">.</span>
LOCATION:Fish House - The Island 1500 Miracle Strip Pkwy SE Fort Walton Beach\, FL 32548
UID:e.885.32602
SEQUENCE:3
DTSTAMP:20260423T063326Z
URL:https://business.waltonareachamber.com/events/details/thanksgiving-feast-at-the-island-fish-house-32602
END:VEVENT

END:VCALENDAR
