BEGIN:VCALENDAR
VERSION:2.0
PRODID:-//ChamberMaster//Event Calendar 2.0//EN
METHOD:PUBLISH
X-PUBLISHED-TTL:P3D
REFRESH-INTERVAL:P3D
CALSCALE:GREGORIAN
BEGIN:VEVENT
DTSTART:20251127T180000Z
DTEND:20251128T030000Z
X-MICROSOFT-CDO-ALLDAYEVENT:FALSE
SUMMARY:Thanksgiving Supper at Ovide
DESCRIPTION:Thanksgiving Supper at Ovide\n\nThis Thanksgiving\, guests are invited to gather at Ovide for a feast that beautifully blends timeless holiday traditions with the charm of Southern hospitality. On Thursday\, November 27\, from 12 9 p.m.\, Ovide will offer a specially curated   la carte menu featuring a classic Thanksgiving supper alongside a selection of signature entr es. Guests can enjoy roasted turkey with cornbread sourdough stuffing\, saut ed pole beans with Valencia almonds\, smashed potatoes\, and cranberry chutney\, or share a variety of Southern-inspired sides\, including sweet potato casserole\, baked winter squash mac & cheese\, and cornmeal fried green tomatoes. To finish\, diners can indulge in a slice of Dutch apple or pumpkin pie\, with the option to add vanilla gelato. Reservations are required and can be made on OpenTable.\n \n\nAddress: Hotel Effie Sandestin\, 1 Grand Sandestin Blvd.\, Miramar Beach\, FL 32550
X-ALT-DESC;FMTTYPE=text/html:<p dir="ltr" style="color: rgb(0\, 0\, 0)\; font-family: arial\, sans-serif\; font-size: 15px\; line-height: 1.2\; text-align: justify\; margin-top: 0pt\; margin-bottom: 0pt\;"><span data-olk-copy-source="MessageBody" style="border: 0px\; font-style: inherit\; font-variant-ligatures: inherit\; font-variant-caps: inherit\; font-variant-numeric: normal\; font-variant-east-asian: normal\; font-variant-alternates: normal\; font-variant-position: inherit\; font-variant-emoji: inherit\; font-weight: 700\; font-stretch: inherit\; font-size: inherit\; line-height: inherit\; font-family: inherit\; font-optical-sizing: inherit\; font-size-adjust: inherit\; font-kerning: inherit\; font-feature-settings: inherit\; font-variation-settings: inherit\; margin: 0px\; padding: 0px\; vertical-align: baseline\; color: inherit\; background-color: transparent !important\; text-decoration-line: underline\;">Thanksgiving Supper at Ovide</span></p>\n\n<p dir="ltr" style="color: rgb(0\, 0\, 0)\; font-family: arial\, sans-serif\; font-size: 15px\; line-height: 1.2\; text-align: justify\; margin-top: 0pt\; margin-bottom: 0pt\;"><span style="border: 0px\; font-style: inherit\; font-variant-ligatures: inherit\; font-variant-caps: inherit\; font-variant-numeric: normal\; font-variant-east-asian: normal\; font-variant-alternates: normal\; font-variant-position: inherit\; font-variant-emoji: inherit\; font-weight: inherit\; font-stretch: inherit\; font-size: inherit\; line-height: inherit\; font-family: inherit\; font-optical-sizing: inherit\; font-size-adjust: inherit\; font-kerning: inherit\; font-feature-settings: inherit\; font-variation-settings: inherit\; margin: 0px\; padding: 0px\; vertical-align: baseline\; color: inherit\; background-color: transparent !important\;">This Thanksgiving\, guests are invited to gather at&nbsp\;</span><a data-auth="NotApplicable" data-linkindex="1" href="https://www.hoteleffie.com/dining/ovide" id="anchor-13a4f978-c5be-f7a7-6e37-448fba88a979" style="border: 0px\; font: inherit\; margin: 0px\; padding: 0px\; vertical-align: baseline\; text-decoration-line: none\;" title="https://www.hoteleffie.com/dining/ovide"><span style="border: 0px\; font-style: inherit\; font-variant-ligatures: inherit\; font-variant-caps: inherit\; font-variant-numeric: normal\; font-variant-east-asian: normal\; font-variant-alternates: normal\; font-variant-position: inherit\; font-variant-emoji: inherit\; font-weight: inherit\; font-stretch: inherit\; font-size: inherit\; line-height: inherit\; font-family: inherit\; font-optical-sizing: inherit\; font-size-adjust: inherit\; font-kerning: inherit\; font-feature-settings: inherit\; font-variation-settings: inherit\; margin: 0px\; padding: 0px\; vertical-align: baseline\; color: inherit\; background-color: transparent !important\; text-decoration-line: underline\;">Ovide</span></a><span style="border: 0px\; font-style: inherit\; font-variant-ligatures: inherit\; font-variant-caps: inherit\; font-variant-numeric: normal\; font-variant-east-asian: normal\; font-variant-alternates: normal\; font-variant-position: inherit\; font-variant-emoji: inherit\; font-weight: inherit\; font-stretch: inherit\; font-size: inherit\; line-height: inherit\; font-family: inherit\; font-optical-sizing: inherit\; font-size-adjust: inherit\; font-kerning: inherit\; font-feature-settings: inherit\; font-variation-settings: inherit\; margin: 0px\; padding: 0px\; vertical-align: baseline\; color: inherit\; background-color: transparent !important\;">&nbsp\;for a feast that beautifully blends timeless holiday traditions with the charm of Southern hospitality. On&nbsp\;</span><span style="border: 0px\; font-style: inherit\; font-variant-ligatures: inherit\; font-variant-caps: inherit\; font-variant-numeric: normal\; font-variant-east-asian: normal\; font-variant-alternates: normal\; font-variant-position: inherit\; font-variant-emoji: inherit\; font-weight: 700\; font-stretch: inherit\; font-size: inherit\; line-height: inherit\; font-family: inherit\; font-optical-sizing: inherit\; font-size-adjust: inherit\; font-kerning: inherit\; font-feature-settings: inherit\; font-variation-settings: inherit\; margin: 0px\; padding: 0px\; vertical-align: baseline\; color: inherit\; background-color: transparent !important\;">Thursday\, November 27\, from 12&ndash\;9 p.m</span><span style="border: 0px\; font-style: inherit\; font-variant-ligatures: inherit\; font-variant-caps: inherit\; font-variant-numeric: normal\; font-variant-east-asian: normal\; font-variant-alternates: normal\; font-variant-position: inherit\; font-variant-emoji: inherit\; font-weight: inherit\; font-stretch: inherit\; font-size: inherit\; line-height: inherit\; font-family: inherit\; font-optical-sizing: inherit\; font-size-adjust: inherit\; font-kerning: inherit\; font-feature-settings: inherit\; font-variation-settings: inherit\; margin: 0px\; padding: 0px\; vertical-align: baseline\; color: inherit\; background-color: transparent !important\;">.\, Ovide will offer a specially curated &agrave\; la carte menu featuring a classic&nbsp\;</span><a data-auth="NotApplicable" data-linkindex="2" href="https://www.hoteleffie.com/events/thanksgiving-ovide-tradition-served-southern-grace" id="anchor-a5e0f3da-c133-4ede-6ee3-a2efc3a6f2cb" style="border: 0px\; font: inherit\; margin: 0px\; padding: 0px\; vertical-align: baseline\; text-decoration-line: none\;" title="https://www.hoteleffie.com/events/thanksgiving-ovide-tradition-served-southern-grace"><span style="border: 0px\; font-style: inherit\; font-variant-ligatures: inherit\; font-variant-caps: inherit\; font-variant-numeric: normal\; font-variant-east-asian: normal\; font-variant-alternates: normal\; font-variant-position: inherit\; font-variant-emoji: inherit\; font-weight: inherit\; font-stretch: inherit\; font-size: inherit\; line-height: inherit\; font-family: inherit\; font-optical-sizing: inherit\; font-size-adjust: inherit\; font-kerning: inherit\; font-feature-settings: inherit\; font-variation-settings: inherit\; margin: 0px\; padding: 0px\; vertical-align: baseline\; color: inherit\; background-color: transparent !important\; text-decoration-line: underline\;">Thanksgiving supper</span></a><span style="border: 0px\; font-style: inherit\; font-variant-ligatures: inherit\; font-variant-caps: inherit\; font-variant-numeric: normal\; font-variant-east-asian: normal\; font-variant-alternates: normal\; font-variant-position: inherit\; font-variant-emoji: inherit\; font-weight: inherit\; font-stretch: inherit\; font-size: inherit\; line-height: inherit\; font-family: inherit\; font-optical-sizing: inherit\; font-size-adjust: inherit\; font-kerning: inherit\; font-feature-settings: inherit\; font-variation-settings: inherit\; margin: 0px\; padding: 0px\; vertical-align: baseline\; color: inherit\; background-color: transparent !important\;">&nbsp\;alongside a selection of signature entr&eacute\;es. Guests can enjoy roasted turkey with cornbread sourdough stuffing\, saut&eacute\;ed pole beans with Valencia almonds\, smashed potatoes\, and cranberry chutney\, or share a variety of Southern-inspired sides\, including sweet potato casserole\, baked winter squash mac &amp\; cheese\, and cornmeal fried green tomatoes. To finish\, diners can indulge in a slice of Dutch apple or pumpkin pie\, with the option to add vanilla gelato. Reservations are required and can be made on&nbsp\;</span><a data-auth="NotApplicable" data-linkindex="3" href="https://www.opentable.com/r/ovide-miramar-beach?corrid=61a4dc0c-0dda-4c1c-b66a-8ee23797dc9d&amp\;avt=eyJ2IjoyLCJtIjowLCJwIjowLCJzIjowLCJuIjowfQ&amp\;p=2&amp\;sd=2023-10-09T19%253A00%253A00" style="border: 0px\; font: inherit\; margin: 0px\; padding: 0px\; vertical-align: baseline\; text-decoration-line: none\;" title="https://www.opentable.com/r/ovide-miramar-beach?corrid=61a4dc0c-0dda-4c1c-b66a-8ee23797dc9d&amp\;avt=eyJ2IjoyLCJtIjowLCJwIjowLCJzIjowLCJuIjowfQ&amp\;p=2&amp\;sd=2023-10-09T19%253A00%253A00"><span style="border: 0px\; font-style: inherit\; font-variant-ligatures: inherit\; font-variant-caps: inherit\; font-variant-numeric: normal\; font-variant-east-asian: normal\; font-variant-alternates: normal\; font-variant-position: inherit\; font-variant-emoji: inherit\; font-weight: inherit\; font-stretch: inherit\; font-size: inherit\; line-height: inherit\; font-family: inherit\; font-optical-sizing: inherit\; font-size-adjust: inherit\; font-kerning: inherit\; font-feature-settings: inherit\; font-variation-settings: inherit\; margin: 0px\; padding: 0px\; vertical-align: baseline\; color: inherit\; background-color: transparent !important\; text-decoration-line: underline\;">OpenTable</span></a><span style="border: 0px\; font-style: inherit\; font-variant-ligatures: inherit\; font-variant-caps: inherit\; font-variant-numeric: normal\; font-variant-east-asian: normal\; font-variant-alternates: normal\; font-variant-position: inherit\; font-variant-emoji: inherit\; font-weight: inherit\; font-stretch: inherit\; font-size: inherit\; line-height: inherit\; font-family: inherit\; font-optical-sizing: inherit\; font-size-adjust: inherit\; font-kerning: inherit\; font-feature-settings: inherit\; font-variation-settings: inherit\; margin: 0px\; padding: 0px\; vertical-align: baseline\; color: inherit\; background-color: transparent !important\;">.</span></p>\n&nbsp\;\n\n<p dir="ltr" style="color: rgb(0\, 0\, 0)\; font-family: arial\, sans-serif\; font-size: 15px\; line-height: 1.2\; text-align: justify\; margin-top: 0pt\; margin-bottom: 0pt\;"><span style="border: 0px\; font-style: inherit\; font-variant-ligatures: inherit\; font-variant-caps: inherit\; font-variant-numeric: normal\; font-variant-east-asian: normal\; font-variant-alternates: normal\; font-variant-position: inherit\; font-variant-emoji: inherit\; font-weight: 700\; font-stretch: inherit\; font-size: inherit\; line-height: inherit\; font-family: inherit\; font-optical-sizing: inherit\; font-size-adjust: inherit\; font-kerning: inherit\; font-feature-settings: inherit\; font-variation-settings: inherit\; margin: 0px\; padding: 0px\; vertical-align: baseline\; color: inherit\; background-color: transparent !important\;">Address:&nbsp\;</span><span style="border: 0px\; font-style: inherit\; font-variant-ligatures: inherit\; font-variant-caps: inherit\; font-variant-numeric: normal\; font-variant-east-asian: normal\; font-variant-alternates: normal\; font-variant-position: inherit\; font-variant-emoji: inherit\; font-weight: inherit\; font-stretch: inherit\; font-size: inherit\; line-height: inherit\; font-family: inherit\; font-optical-sizing: inherit\; font-size-adjust: inherit\; font-kerning: inherit\; font-feature-settings: inherit\; font-variation-settings: inherit\; margin: 0px\; padding: 0px\; vertical-align: baseline\; color: inherit\; background-color: transparent !important\;">Hotel Effie Sandestin\, 1 Grand Sandestin Blvd.\, Miramar Beach\, FL 32550</span></p>\n
LOCATION:Address: Hotel Effie Sandestin\, 1 Grand Sandestin Blvd.\, Miramar Beach\, FL 32550
UID:e.885.56122
SEQUENCE:3
DTSTAMP:20260422T154448Z
URL:https://business.waltonareachamber.com/events/details/thanksgiving-supper-at-ovide-56122
END:VEVENT

END:VCALENDAR
