BEGIN:VCALENDAR
VERSION:2.0
PRODID:-//ChamberMaster//Event Calendar 2.0//EN
METHOD:PUBLISH
X-PUBLISHED-TTL:P3D
REFRESH-INTERVAL:P3D
CALSCALE:GREGORIAN
BEGIN:VEVENT
DTSTART:20251107T134500Z
DTEND:20251107T230000Z
X-MICROSOFT-CDO-ALLDAYEVENT:FALSE
SUMMARY:The 23rd Annual Charity Golf Classic supporting Ascension Sacred Heart Emerald Coast
DESCRIPTION:The 23rd Annual Charity Golf Classic will be held on Friday\, November 7th\, at Burnt Pine Country Club. This esteemed event will benefit cardiology services at Sacred Heart Emerald Coast. Breakfast\, lunch\, on-course food and beverages\, and many other elements of surprise will ensure this is a day not to be missed!
X-ALT-DESC;FMTTYPE=text/html:The 23rd Annual Charity Golf Classic will be held on Friday\, November 7th\, at Burnt Pine Country Club. This esteemed event will benefit cardiology services at Sacred Heart Emerald Coast. Breakfast\, lunch\, on-course food and beverages\, and many other elements of surprise will ensure this is a day not to be missed!
LOCATION:Burnt Pine Country Club
UID:e.885.54958
SEQUENCE:3
DTSTAMP:20260422T160026Z
URL:https://business.waltonareachamber.com/events/details/the-23rd-annual-charity-golf-classic-supporting-ascension-sacred-heart-emerald-coast-54958
END:VEVENT

END:VCALENDAR
